BEGIN:VCALENDAR
VERSION:2.0
PRODID:-//Falmouth Rod &amp; Gun Club - ECPv6.12.0.1//NONSGML v1.0//EN
CALSCALE:GREGORIAN
METHOD:PUBLISH
X-WR-CALNAME:Falmouth Rod &amp; Gun Club
X-ORIGINAL-URL:http://www.frandg.org
X-WR-CALDESC:Events for Falmouth Rod &amp; Gun Club
REFRESH-INTERVAL;VALUE=DURATION:PT1H
X-Robots-Tag:noindex
X-PUBLISHED-TTL:PT1H
BEGIN:VTIMEZONE
TZID:America/New_York
BEGIN:DAYLIGHT
TZOFFSETFROM:-0500
TZOFFSETTO:-0400
TZNAME:EDT
DTSTART:20240310T070000
END:DAYLIGHT
BEGIN:STANDARD
TZOFFSETFROM:-0400
TZOFFSETTO:-0500
TZNAME:EST
DTSTART:20241103T060000
END:STANDARD
BEGIN:DAYLIGHT
TZOFFSETFROM:-0500
TZOFFSETTO:-0400
TZNAME:EDT
DTSTART:20250309T070000
END:DAYLIGHT
BEGIN:STANDARD
TZOFFSETFROM:-0400
TZOFFSETTO:-0500
TZNAME:EST
DTSTART:20251102T060000
END:STANDARD
END:VTIMEZONE
BEGIN:VEVENT
DTSTART;TZID=America/New_York:20250316T100000
DTEND;TZID=America/New_York:20250316T120000
DTSTAMP:20260425T205622
CREATED:20250112T202242Z
LAST-MODIFIED:20250112T202242Z
UID:3571-1742119200-1742126400@www.frandg.org
SUMMARY:TRAP
DESCRIPTION:
URL:http://www.frandg.org/event/trap-251/
END:VEVENT
BEGIN:VEVENT
DTSTART;TZID=America/New_York:20250314T080000
DTEND;TZID=America/New_York:20250314T130000
DTSTAMP:20260425T205622
CREATED:20250304T025803Z
LAST-MODIFIED:20250304T025803Z
UID:3680-1741939200-1741957200@www.frandg.org
SUMMARY:Youth Archery
DESCRIPTION:
URL:http://www.frandg.org/event/youth-archery-26/
LOCATION:Indoor Range/Clubhouse
END:VEVENT
BEGIN:VEVENT
DTSTART;TZID=America/New_York:20250312T180000
DTEND;TZID=America/New_York:20250312T200000
DTSTAMP:20260425T205622
CREATED:20250304T025726Z
LAST-MODIFIED:20250304T025726Z
UID:3678-1741802400-1741809600@www.frandg.org
SUMMARY:BB/Pellet Indoor Range
DESCRIPTION:
URL:http://www.frandg.org/event/bb-pellet-indoor-range/
LOCATION:Indoor Range/Clubhouse
END:VEVENT
BEGIN:VEVENT
DTSTART;TZID=America/New_York:20250309T100000
DTEND;TZID=America/New_York:20250309T100000
DTSTAMP:20260425T205622
CREATED:20250112T202223Z
LAST-MODIFIED:20250112T202223Z
UID:3569-1741514400-1741514400@www.frandg.org
SUMMARY:TRAP
DESCRIPTION:
URL:http://www.frandg.org/event/trap-250/
END:VEVENT
BEGIN:VEVENT
DTSTART;TZID=America/New_York:20250303T180000
DTEND;TZID=America/New_York:20250303T200000
DTSTAMP:20260425T205622
CREATED:20250112T202512Z
LAST-MODIFIED:20250112T202512Z
UID:3581-1741024800-1741032000@www.frandg.org
SUMMARY:Social Meeting
DESCRIPTION:
URL:http://www.frandg.org/event/social-meeting-48/
END:VEVENT
BEGIN:VEVENT
DTSTART;TZID=America/New_York:20250302T100000
DTEND;TZID=America/New_York:20250302T120000
DTSTAMP:20260425T205622
CREATED:20250112T202139Z
LAST-MODIFIED:20250112T202139Z
UID:3567-1740909600-1740916800@www.frandg.org
SUMMARY:TRAP
DESCRIPTION:
URL:http://www.frandg.org/event/trap-249/
END:VEVENT
BEGIN:VEVENT
DTSTART;TZID=America/New_York:20250228T080000
DTEND;TZID=America/New_York:20250228T130000
DTSTAMP:20260425T205622
CREATED:20250204T031753Z
LAST-MODIFIED:20250204T031753Z
UID:3673-1740729600-1740747600@www.frandg.org
SUMMARY:Youth Archery
DESCRIPTION:
URL:http://www.frandg.org/event/youth-archery-25/
LOCATION:Indoor Range/Clubhouse
END:VEVENT
BEGIN:VEVENT
DTSTART;TZID=America/New_York:20250223T100000
DTEND;TZID=America/New_York:20250223T120000
DTSTAMP:20260425T205622
CREATED:20250112T202119Z
LAST-MODIFIED:20250112T202119Z
UID:3565-1740304800-1740312000@www.frandg.org
SUMMARY:TRAP
DESCRIPTION:
URL:http://www.frandg.org/event/trap-248/
END:VEVENT
BEGIN:VEVENT
DTSTART;TZID=America/New_York:20250218T180000
DTEND;TZID=America/New_York:20250218T200000
DTSTAMP:20260425T205622
CREATED:20250204T031826Z
LAST-MODIFIED:20250204T031826Z
UID:3675-1739901600-1739908800@www.frandg.org
SUMMARY:Archery Night - Indoor Range
DESCRIPTION:
URL:http://www.frandg.org/event/archery-night-indoor-range/
LOCATION:Indoor Range/Clubhouse
END:VEVENT
BEGIN:VEVENT
DTSTART;TZID=America/New_York:20250217T190000
DTEND;TZID=America/New_York:20250217T203000
DTSTAMP:20260425T205622
CREATED:20241215T223248Z
LAST-MODIFIED:20241215T223248Z
UID:3528-1739818800-1739824200@www.frandg.org
SUMMARY:Business Meeting
DESCRIPTION:
URL:http://www.frandg.org/event/business-meeting-80/
END:VEVENT
BEGIN:VEVENT
DTSTART;TZID=America/New_York:20250216T100000
DTEND;TZID=America/New_York:20250216T120000
DTSTAMP:20260425T205622
CREATED:20250112T202101Z
LAST-MODIFIED:20250112T202101Z
UID:3563-1739700000-1739707200@www.frandg.org
SUMMARY:TRAP
DESCRIPTION:
URL:http://www.frandg.org/event/trap-247/
END:VEVENT
BEGIN:VEVENT
DTSTART;TZID=America/New_York:20250214T080000
DTEND;TZID=America/New_York:20250214T130000
DTSTAMP:20260425T205622
CREATED:20250204T031718Z
LAST-MODIFIED:20250204T031718Z
UID:3671-1739520000-1739538000@www.frandg.org
SUMMARY:Youth Archery
DESCRIPTION:
URL:http://www.frandg.org/event/youth-archery-24/
LOCATION:Indoor Range/Clubhouse
END:VEVENT
BEGIN:VEVENT
DTSTART;TZID=America/New_York:20250210T180000
DTEND;TZID=America/New_York:20250210T200000
DTSTAMP:20260425T205622
CREATED:20250112T202442Z
LAST-MODIFIED:20250112T202442Z
UID:3579-1739210400-1739217600@www.frandg.org
SUMMARY:Social Meeting
DESCRIPTION:
URL:http://www.frandg.org/event/social-meeting-47/
END:VEVENT
BEGIN:VEVENT
DTSTART;TZID=America/New_York:20250209T100000
DTEND;TZID=America/New_York:20250209T120000
DTSTAMP:20260425T205622
CREATED:20250112T202043Z
LAST-MODIFIED:20250112T202043Z
UID:3561-1739095200-1739102400@www.frandg.org
SUMMARY:TRAP
DESCRIPTION:
URL:http://www.frandg.org/event/trap-246/
END:VEVENT
BEGIN:VEVENT
DTSTART;TZID=America/New_York:20250202T100000
DTEND;TZID=America/New_York:20250202T120000
DTSTAMP:20260425T205622
CREATED:20250112T202025Z
LAST-MODIFIED:20250112T202025Z
UID:3559-1738490400-1738497600@www.frandg.org
SUMMARY:TRAP
DESCRIPTION:
URL:http://www.frandg.org/event/trap-245/
END:VEVENT
BEGIN:VEVENT
DTSTART;TZID=America/New_York:20250131T080000
DTEND;TZID=America/New_York:20250131T130000
DTSTAMP:20260425T205622
CREATED:20250127T124532Z
LAST-MODIFIED:20250127T124532Z
UID:3668-1738310400-1738328400@www.frandg.org
SUMMARY:Youth Archery
DESCRIPTION:
URL:http://www.frandg.org/event/youth-archery-23/
LOCATION:Indoor Range/Clubhouse
END:VEVENT
BEGIN:VEVENT
DTSTART;TZID=America/New_York:20250128T180000
DTEND;TZID=America/New_York:20250128T200000
DTSTAMP:20260425T205622
CREATED:20250121T192047Z
LAST-MODIFIED:20250121T192047Z
UID:3616-1738087200-1738094400@www.frandg.org
SUMMARY:Indoor Archery
DESCRIPTION:
URL:http://www.frandg.org/event/indoor-archery-2/
END:VEVENT
BEGIN:VEVENT
DTSTART;TZID=America/New_York:20250126T100000
DTEND;TZID=America/New_York:20250126T120000
DTSTAMP:20260425T205622
CREATED:20250112T202005Z
LAST-MODIFIED:20250112T202005Z
UID:3557-1737885600-1737892800@www.frandg.org
SUMMARY:TRAP
DESCRIPTION:
URL:http://www.frandg.org/event/trap-244/
END:VEVENT
BEGIN:VEVENT
DTSTART;TZID=America/New_York:20250125T143000
DTEND;TZID=America/New_York:20250125T200000
DTSTAMP:20260425T205622
CREATED:20250120T185531Z
LAST-MODIFIED:20250120T185531Z
UID:3613-1737815400-1737835200@www.frandg.org
SUMMARY:Troop 423 - Indoor Range/Clubhouse
DESCRIPTION:
URL:http://www.frandg.org/event/troop-423-indoor-range-clubhouse/
LOCATION:Indoor Range/Clubhouse
END:VEVENT
BEGIN:VEVENT
DTSTART;TZID=America/New_York:20250120T190000
DTEND;TZID=America/New_York:20250120T203000
DTSTAMP:20260425T205622
CREATED:20241215T223220Z
LAST-MODIFIED:20241215T223220Z
UID:3526-1737399600-1737405000@www.frandg.org
SUMMARY:Business Meeting
DESCRIPTION:
URL:http://www.frandg.org/event/business-meeting-79/
END:VEVENT
BEGIN:VEVENT
DTSTART;TZID=America/New_York:20250119T100000
DTEND;TZID=America/New_York:20250119T120000
DTSTAMP:20260425T205622
CREATED:20250112T201946Z
LAST-MODIFIED:20250112T201946Z
UID:3555-1737280800-1737288000@www.frandg.org
SUMMARY:TRAP
DESCRIPTION:
URL:http://www.frandg.org/event/trap-243/
END:VEVENT
BEGIN:VEVENT
DTSTART;TZID=America/New_York:20250113T183000
DTEND;TZID=America/New_York:20250113T200000
DTSTAMP:20260425T205622
CREATED:20240103T141743Z
LAST-MODIFIED:20240103T141743Z
UID:3069-1736793000-1736798400@www.frandg.org
SUMMARY:Annual Meeting
DESCRIPTION:
URL:http://www.frandg.org/event/annual-meeting-4/
END:VEVENT
BEGIN:VEVENT
DTSTART;TZID=America/New_York:20250112T180000
DTEND;TZID=America/New_York:20250112T200000
DTSTAMP:20260425T205622
CREATED:20250112T202706Z
LAST-MODIFIED:20250112T202706Z
UID:3586-1736704800-1736712000@www.frandg.org
SUMMARY:Social Meeting
DESCRIPTION:
URL:http://www.frandg.org/event/social-meeting-50/
END:VEVENT
BEGIN:VEVENT
DTSTART;TZID=America/New_York:20250112T100000
DTEND;TZID=America/New_York:20250112T120000
DTSTAMP:20260425T205622
CREATED:20240930T103124Z
LAST-MODIFIED:20241119T015922Z
UID:3441-1736676000-1736683200@www.frandg.org
SUMMARY:TRAP
DESCRIPTION:
URL:http://www.frandg.org/event/trap-242/
END:VEVENT
BEGIN:VEVENT
DTSTART;TZID=America/New_York:20250105T100000
DTEND;TZID=America/New_York:20250105T120000
DTSTAMP:20260425T205622
CREATED:20240930T103104Z
LAST-MODIFIED:20241119T015917Z
UID:3439-1736071200-1736078400@www.frandg.org
SUMMARY:TRAP
DESCRIPTION:
URL:http://www.frandg.org/event/trap-241/
END:VEVENT
BEGIN:VEVENT
DTSTART;TZID=America/New_York:20241229T100000
DTEND;TZID=America/New_York:20241229T120000
DTSTAMP:20260425T205622
CREATED:20240930T103038Z
LAST-MODIFIED:20241119T015911Z
UID:3437-1735466400-1735473600@www.frandg.org
SUMMARY:TRAP
DESCRIPTION:
URL:http://www.frandg.org/event/trap-240/
END:VEVENT
BEGIN:VEVENT
DTSTART;TZID=America/New_York:20241222T100000
DTEND;TZID=America/New_York:20241222T120000
DTSTAMP:20260425T205622
CREATED:20240930T103021Z
LAST-MODIFIED:20241119T015904Z
UID:3435-1734861600-1734868800@www.frandg.org
SUMMARY:TRAP
DESCRIPTION:
URL:http://www.frandg.org/event/trap-239/
END:VEVENT
BEGIN:VEVENT
DTSTART;TZID=America/New_York:20241220T080000
DTEND;TZID=America/New_York:20241220T140000
DTSTAMP:20260425T205622
CREATED:20241129T141353Z
LAST-MODIFIED:20241129T141353Z
UID:3490-1734681600-1734703200@www.frandg.org
SUMMARY:Youth Indoor Archery
DESCRIPTION:
URL:http://www.frandg.org/event/youth-indoor-archery-2/
LOCATION:Indoor Range/Clubhouse
END:VEVENT
BEGIN:VEVENT
DTSTART;TZID=America/New_York:20241217T180000
DTEND;TZID=America/New_York:20241217T200000
DTSTAMP:20260425T205622
CREATED:20241209T115102Z
LAST-MODIFIED:20241209T115102Z
UID:3513-1734458400-1734465600@www.frandg.org
SUMMARY:Indoor Archery Night
DESCRIPTION:
URL:http://www.frandg.org/event/indoor-archery-night/
LOCATION:Indoor Range/Clubhouse
END:VEVENT
BEGIN:VEVENT
DTSTART;TZID=America/New_York:20241216T190000
DTEND;TZID=America/New_York:20241216T203000
DTSTAMP:20260425T205622
CREATED:20240416T193749Z
LAST-MODIFIED:20240416T193749Z
UID:3228-1734375600-1734381000@www.frandg.org
SUMMARY:Business Meeting
DESCRIPTION:
URL:http://www.frandg.org/event/business-meeting-90/
END:VEVENT
END:VCALENDAR