BEGIN:VCALENDAR
VERSION:2.0
PRODID:-//Falmouth Rod &amp; Gun Club - ECPv6.12.0.1//NONSGML v1.0//EN
CALSCALE:GREGORIAN
METHOD:PUBLISH
X-WR-CALNAME:Falmouth Rod &amp; Gun Club
X-ORIGINAL-URL:http://www.frandg.org
X-WR-CALDESC:Events for Falmouth Rod &amp; Gun Club
REFRESH-INTERVAL;VALUE=DURATION:PT1H
X-Robots-Tag:noindex
X-PUBLISHED-TTL:PT1H
BEGIN:VTIMEZONE
TZID:America/New_York
BEGIN:DAYLIGHT
TZOFFSETFROM:-0500
TZOFFSETTO:-0400
TZNAME:EDT
DTSTART:20260308T070000
END:DAYLIGHT
BEGIN:STANDARD
TZOFFSETFROM:-0400
TZOFFSETTO:-0500
TZNAME:EST
DTSTART:20261101T060000
END:STANDARD
END:VTIMEZONE
BEGIN:VEVENT
DTSTART;TZID=America/New_York:20260301T100000
DTEND;TZID=America/New_York:20260301T120000
DTSTAMP:20260424T134603
CREATED:20260104T165417Z
LAST-MODIFIED:20260104T165417Z
UID:4232-1772359200-1772366400@www.frandg.org
SUMMARY:TRAP
DESCRIPTION:
URL:http://www.frandg.org/event/trap-301/
END:VEVENT
BEGIN:VEVENT
DTSTART;TZID=America/New_York:20260306T083000
DTEND;TZID=America/New_York:20260306T123000
DTSTAMP:20260424T134603
CREATED:20260104T163526Z
LAST-MODIFIED:20260104T163526Z
UID:4162-1772785800-1772800200@www.frandg.org
SUMMARY:Youth Archery
DESCRIPTION:
URL:http://www.frandg.org/event/youth-archery-32/
END:VEVENT
BEGIN:VEVENT
DTSTART;TZID=America/New_York:20260308T100000
DTEND;TZID=America/New_York:20260308T120000
DTSTAMP:20260424T134603
CREATED:20260104T165435Z
LAST-MODIFIED:20260104T165435Z
UID:4234-1772964000-1772971200@www.frandg.org
SUMMARY:TRAP
DESCRIPTION:
URL:http://www.frandg.org/event/trap-302/
END:VEVENT
BEGIN:VEVENT
DTSTART;TZID=America/New_York:20260309T180000
DTEND;TZID=America/New_York:20260309T200000
DTSTAMP:20260424T134603
CREATED:20260104T163951Z
LAST-MODIFIED:20260104T163951Z
UID:4176-1773079200-1773086400@www.frandg.org
SUMMARY:Social Meeting
DESCRIPTION:
URL:http://www.frandg.org/event/social-meeting-60/
END:VEVENT
BEGIN:VEVENT
DTSTART;TZID=America/New_York:20260315T100000
DTEND;TZID=America/New_York:20260315T120000
DTSTAMP:20260424T134603
CREATED:20260104T165458Z
LAST-MODIFIED:20260104T165458Z
UID:4236-1773568800-1773576000@www.frandg.org
SUMMARY:TRAP
DESCRIPTION:
URL:http://www.frandg.org/event/trap-303/
END:VEVENT
BEGIN:VEVENT
DTSTART;TZID=America/New_York:20260316T190000
DTEND;TZID=America/New_York:20260316T203000
DTSTAMP:20260424T134603
CREATED:20260104T164614Z
LAST-MODIFIED:20260104T164614Z
UID:4198-1773687600-1773693000@www.frandg.org
SUMMARY:Business Meeting
DESCRIPTION:
URL:http://www.frandg.org/event/business-meeting-99/
END:VEVENT
BEGIN:VEVENT
DTSTART;TZID=America/New_York:20260318T180000
DTEND;TZID=America/New_York:20260318T200000
DTSTAMP:20260424T134603
CREATED:20260311T005051Z
LAST-MODIFIED:20260311T005051Z
UID:4291-1773856800-1773864000@www.frandg.org
SUMMARY:Indoor Archery Night
DESCRIPTION:
URL:http://www.frandg.org/event/indoor-archery-night-3/
LOCATION:Indoor Range/Clubhouse
END:VEVENT
BEGIN:VEVENT
DTSTART;TZID=America/New_York:20260320T083000
DTEND;TZID=America/New_York:20260320T123000
DTSTAMP:20260424T134603
CREATED:20260104T163551Z
LAST-MODIFIED:20260104T163551Z
UID:4164-1773995400-1774009800@www.frandg.org
SUMMARY:Youth Archery
DESCRIPTION:
URL:http://www.frandg.org/event/youth-archery-33/
END:VEVENT
BEGIN:VEVENT
DTSTART;TZID=America/New_York:20260322T100000
DTEND;TZID=America/New_York:20260322T120000
DTSTAMP:20260424T134603
CREATED:20260104T165517Z
LAST-MODIFIED:20260104T165517Z
UID:4238-1774173600-1774180800@www.frandg.org
SUMMARY:TRAP
DESCRIPTION:
URL:http://www.frandg.org/event/trap-304/
END:VEVENT
BEGIN:VEVENT
DTSTART;TZID=America/New_York:20260329T080000
DTEND;TZID=America/New_York:20260329T130000
DTSTAMP:20260424T134603
CREATED:20260303T010736Z
LAST-MODIFIED:20260320T184831Z
UID:4283-1774771200-1774789200@www.frandg.org
SUMMARY:HAM Shoot 2026 29 MARCH
DESCRIPTION:
URL:http://www.frandg.org/event/ham-shoot-2026/
END:VEVENT
BEGIN:VEVENT
DTSTART;TZID=America/New_York:20260329T100000
DTEND;TZID=America/New_York:20260329T120000
DTSTAMP:20260424T134603
CREATED:20260104T165538Z
LAST-MODIFIED:20260104T165538Z
UID:4240-1774778400-1774785600@www.frandg.org
SUMMARY:TRAP
DESCRIPTION:
URL:http://www.frandg.org/event/trap-305/
END:VEVENT
END:VCALENDAR