BEGIN:VCALENDAR
VERSION:2.0
PRODID:-//Falmouth Rod &amp; Gun Club - ECPv6.12.0.1//NONSGML v1.0//EN
CALSCALE:GREGORIAN
METHOD:PUBLISH
X-WR-CALNAME:Falmouth Rod &amp; Gun Club
X-ORIGINAL-URL:https://www.frandg.org
X-WR-CALDESC:Events for Falmouth Rod &amp; Gun Club
REFRESH-INTERVAL;VALUE=DURATION:PT1H
X-Robots-Tag:noindex
X-PUBLISHED-TTL:PT1H
BEGIN:VTIMEZONE
TZID:America/New_York
BEGIN:DAYLIGHT
TZOFFSETFROM:-0500
TZOFFSETTO:-0400
TZNAME:EDT
DTSTART:20250309T070000
END:DAYLIGHT
BEGIN:STANDARD
TZOFFSETFROM:-0400
TZOFFSETTO:-0500
TZNAME:EST
DTSTART:20251102T060000
END:STANDARD
END:VTIMEZONE
BEGIN:VEVENT
DTSTART;TZID=America/New_York:20251102T100000
DTEND;TZID=America/New_York:20251102T120000
DTSTAMP:20260424T232743
CREATED:20250420T151131Z
LAST-MODIFIED:20250420T151131Z
UID:3758-1762077600-1762084800@www.frandg.org
SUMMARY:TRAP
DESCRIPTION:
URL:https://www.frandg.org/event/trap-285/
END:VEVENT
END:VCALENDAR