BEGIN:VCALENDAR
VERSION:2.0
PRODID:-//Falmouth Rod &amp; Gun Club - ECPv6.12.0.1//NONSGML v1.0//EN
CALSCALE:GREGORIAN
METHOD:PUBLISH
X-WR-CALNAME:Falmouth Rod &amp; Gun Club
X-ORIGINAL-URL:https://www.frandg.org
X-WR-CALDESC:Events for Falmouth Rod &amp; Gun Club
REFRESH-INTERVAL;VALUE=DURATION:PT1H
X-Robots-Tag:noindex
X-PUBLISHED-TTL:PT1H
BEGIN:VTIMEZONE
TZID:America/New_York
BEGIN:DAYLIGHT
TZOFFSETFROM:-0500
TZOFFSETTO:-0400
TZNAME:EDT
DTSTART:20250309T070000
END:DAYLIGHT
BEGIN:STANDARD
TZOFFSETFROM:-0400
TZOFFSETTO:-0500
TZNAME:EST
DTSTART:20251102T060000
END:STANDARD
END:VTIMEZONE
BEGIN:VEVENT
DTSTART;TZID=America/New_York:20250519T190000
DTEND;TZID=America/New_York:20250519T203000
DTSTAMP:20260425T203623
CREATED:20250420T145955Z
LAST-MODIFIED:20250420T145955Z
UID:3718-1747681200-1747686600@www.frandg.org
SUMMARY:Business meeting
DESCRIPTION:
URL:https://www.frandg.org/event/business-meeting-83/
END:VEVENT
BEGIN:VEVENT
DTSTART;TZID=America/New_York:20250518T100000
DTEND;TZID=America/New_York:20250518T120000
DTSTAMP:20260425T203623
CREATED:20250121T193114Z
LAST-MODIFIED:20250121T193114Z
UID:3634-1747562400-1747569600@www.frandg.org
SUMMARY:TRAP
DESCRIPTION:
URL:https://www.frandg.org/event/trap-260/
END:VEVENT
BEGIN:VEVENT
DTSTART;TZID=America/New_York:20250512T180000
DTEND;TZID=America/New_York:20250512T200000
DTSTAMP:20260425T203623
CREATED:20250112T203107Z
LAST-MODIFIED:20250112T203107Z
UID:3602-1747072800-1747080000@www.frandg.org
SUMMARY:Social Meeting
DESCRIPTION:
URL:https://www.frandg.org/event/social-meeting-58/
END:VEVENT
BEGIN:VEVENT
DTSTART;TZID=America/New_York:20250511T100000
DTEND;TZID=America/New_York:20250511T120000
DTSTAMP:20260425T203623
CREATED:20250121T193056Z
LAST-MODIFIED:20250121T193056Z
UID:3632-1746957600-1746964800@www.frandg.org
SUMMARY:TRAP
DESCRIPTION:
URL:https://www.frandg.org/event/trap-259/
END:VEVENT
BEGIN:VEVENT
DTSTART;TZID=America/New_York:20250504T100000
DTEND;TZID=America/New_York:20250504T120000
DTSTAMP:20260425T203623
CREATED:20250121T193038Z
LAST-MODIFIED:20250121T193038Z
UID:3630-1746352800-1746360000@www.frandg.org
SUMMARY:TRAP
DESCRIPTION:
URL:https://www.frandg.org/event/trap-258/
END:VEVENT
BEGIN:VEVENT
DTSTART;TZID=America/New_York:20250427T100000
DTEND;TZID=America/New_York:20250427T120000
DTSTAMP:20260425T203623
CREATED:20250121T193019Z
LAST-MODIFIED:20250121T193019Z
UID:3628-1745748000-1745755200@www.frandg.org
SUMMARY:TRAP
DESCRIPTION:
URL:https://www.frandg.org/event/trap-257/
END:VEVENT
BEGIN:VEVENT
DTSTART;TZID=America/New_York:20250423T180000
DTEND;TZID=America/New_York:20250423T200000
DTSTAMP:20260425T203623
CREATED:20250331T132739Z
LAST-MODIFIED:20250331T132739Z
UID:3700-1745431200-1745438400@www.frandg.org
SUMMARY:Indoor Airgun (BB/Pellet)
DESCRIPTION:
URL:https://www.frandg.org/event/indoor-airgun-bb-pellet/
LOCATION:Indoor Range/Clubhouse
END:VEVENT
BEGIN:VEVENT
DTSTART;TZID=America/New_York:20250421T190000
DTEND;TZID=America/New_York:20250421T203000
DTSTAMP:20260425T203623
CREATED:20250420T145926Z
LAST-MODIFIED:20250420T145926Z
UID:3716-1745262000-1745267400@www.frandg.org
SUMMARY:Business meeting
DESCRIPTION:
URL:https://www.frandg.org/event/business-meeting-82/
END:VEVENT
BEGIN:VEVENT
DTSTART;TZID=America/New_York:20250420T100000
DTEND;TZID=America/New_York:20250420T120000
DTSTAMP:20260425T203623
CREATED:20250121T193000Z
LAST-MODIFIED:20250121T193000Z
UID:3626-1745143200-1745150400@www.frandg.org
SUMMARY:TRAP
DESCRIPTION:
URL:https://www.frandg.org/event/trap-256/
END:VEVENT
BEGIN:VEVENT
DTSTART;TZID=America/New_York:20250415T180000
DTEND;TZID=America/New_York:20250415T200000
DTSTAMP:20260425T203623
CREATED:20250331T132659Z
LAST-MODIFIED:20250331T132659Z
UID:3698-1744740000-1744747200@www.frandg.org
SUMMARY:Indoor Archery Night
DESCRIPTION:
URL:https://www.frandg.org/event/indoor-archery-night-2/
LOCATION:Indoor Range/Clubhouse
END:VEVENT
BEGIN:VEVENT
DTSTART;TZID=America/New_York:20250414T180000
DTEND;TZID=America/New_York:20250414T200000
DTSTAMP:20260425T203623
CREATED:20250112T202605Z
LAST-MODIFIED:20250112T202605Z
UID:3583-1744653600-1744660800@www.frandg.org
SUMMARY:Social Meeting
DESCRIPTION:
URL:https://www.frandg.org/event/social-meeting-49/
END:VEVENT
BEGIN:VEVENT
DTSTART;TZID=America/New_York:20250413T100000
DTEND;TZID=America/New_York:20250413T120000
DTSTAMP:20260425T203623
CREATED:20250121T192938Z
LAST-MODIFIED:20250121T192938Z
UID:3624-1744538400-1744545600@www.frandg.org
SUMMARY:TRAP
DESCRIPTION:
URL:https://www.frandg.org/event/trap-255/
END:VEVENT
BEGIN:VEVENT
DTSTART;TZID=America/New_York:20250406T100000
DTEND;TZID=America/New_York:20250406T120000
DTSTAMP:20260425T203623
CREATED:20250112T202337Z
LAST-MODIFIED:20250112T202337Z
UID:3577-1743933600-1743940800@www.frandg.org
SUMMARY:TRAP
DESCRIPTION:
URL:https://www.frandg.org/event/trap-254/
END:VEVENT
BEGIN:VEVENT
DTSTART;TZID=America/New_York:20250330T100000
DTEND;TZID=America/New_York:20250330T120000
DTSTAMP:20260425T203623
CREATED:20250112T202318Z
LAST-MODIFIED:20250112T202318Z
UID:3575-1743328800-1743336000@www.frandg.org
SUMMARY:TRAP
DESCRIPTION:
URL:https://www.frandg.org/event/trap-253/
END:VEVENT
BEGIN:VEVENT
DTSTART;TZID=America/New_York:20250328T080000
DTEND;TZID=America/New_York:20250328T130000
DTSTAMP:20260425T203623
CREATED:20250304T025832Z
LAST-MODIFIED:20250304T025832Z
UID:3682-1743148800-1743166800@www.frandg.org
SUMMARY:Youth Archery
DESCRIPTION:
URL:https://www.frandg.org/event/youth-archery-27/
LOCATION:Indoor Range/Clubhouse
END:VEVENT
BEGIN:VEVENT
DTSTART;TZID=America/New_York:20250325T180000
DTEND;TZID=America/New_York:20250325T200000
DTSTAMP:20260425T203623
CREATED:20250306T231629Z
LAST-MODIFIED:20250306T231629Z
UID:3684-1742925600-1742932800@www.frandg.org
SUMMARY:Indoor Archery
DESCRIPTION:
URL:https://www.frandg.org/event/indoor-archery-3/
LOCATION:Indoor Range/Clubhouse
END:VEVENT
BEGIN:VEVENT
DTSTART;TZID=America/New_York:20250323T100000
DTEND;TZID=America/New_York:20250323T120000
DTSTAMP:20260425T203623
CREATED:20250112T202301Z
LAST-MODIFIED:20250112T202301Z
UID:3573-1742724000-1742731200@www.frandg.org
SUMMARY:TRAP
DESCRIPTION:
URL:https://www.frandg.org/event/trap-252/
END:VEVENT
BEGIN:VEVENT
DTSTART;TZID=America/New_York:20250317T190000
DTEND;TZID=America/New_York:20250317T203000
DTSTAMP:20260425T203623
CREATED:20241215T223321Z
LAST-MODIFIED:20241215T223321Z
UID:3530-1742238000-1742243400@www.frandg.org
SUMMARY:Business Meeting
DESCRIPTION:
URL:https://www.frandg.org/event/business-meeting-81/
END:VEVENT
BEGIN:VEVENT
DTSTART;TZID=America/New_York:20250316T100000
DTEND;TZID=America/New_York:20250316T120000
DTSTAMP:20260425T203623
CREATED:20250112T202242Z
LAST-MODIFIED:20250112T202242Z
UID:3571-1742119200-1742126400@www.frandg.org
SUMMARY:TRAP
DESCRIPTION:
URL:https://www.frandg.org/event/trap-251/
END:VEVENT
BEGIN:VEVENT
DTSTART;TZID=America/New_York:20250314T080000
DTEND;TZID=America/New_York:20250314T130000
DTSTAMP:20260425T203623
CREATED:20250304T025803Z
LAST-MODIFIED:20250304T025803Z
UID:3680-1741939200-1741957200@www.frandg.org
SUMMARY:Youth Archery
DESCRIPTION:
URL:https://www.frandg.org/event/youth-archery-26/
LOCATION:Indoor Range/Clubhouse
END:VEVENT
BEGIN:VEVENT
DTSTART;TZID=America/New_York:20250312T180000
DTEND;TZID=America/New_York:20250312T200000
DTSTAMP:20260425T203623
CREATED:20250304T025726Z
LAST-MODIFIED:20250304T025726Z
UID:3678-1741802400-1741809600@www.frandg.org
SUMMARY:BB/Pellet Indoor Range
DESCRIPTION:
URL:https://www.frandg.org/event/bb-pellet-indoor-range/
LOCATION:Indoor Range/Clubhouse
END:VEVENT
BEGIN:VEVENT
DTSTART;TZID=America/New_York:20250309T100000
DTEND;TZID=America/New_York:20250309T100000
DTSTAMP:20260425T203623
CREATED:20250112T202223Z
LAST-MODIFIED:20250112T202223Z
UID:3569-1741514400-1741514400@www.frandg.org
SUMMARY:TRAP
DESCRIPTION:
URL:https://www.frandg.org/event/trap-250/
END:VEVENT
BEGIN:VEVENT
DTSTART;TZID=America/New_York:20250303T180000
DTEND;TZID=America/New_York:20250303T200000
DTSTAMP:20260425T203623
CREATED:20250112T202512Z
LAST-MODIFIED:20250112T202512Z
UID:3581-1741024800-1741032000@www.frandg.org
SUMMARY:Social Meeting
DESCRIPTION:
URL:https://www.frandg.org/event/social-meeting-48/
END:VEVENT
BEGIN:VEVENT
DTSTART;TZID=America/New_York:20250302T100000
DTEND;TZID=America/New_York:20250302T120000
DTSTAMP:20260425T203623
CREATED:20250112T202139Z
LAST-MODIFIED:20250112T202139Z
UID:3567-1740909600-1740916800@www.frandg.org
SUMMARY:TRAP
DESCRIPTION:
URL:https://www.frandg.org/event/trap-249/
END:VEVENT
BEGIN:VEVENT
DTSTART;TZID=America/New_York:20250228T080000
DTEND;TZID=America/New_York:20250228T130000
DTSTAMP:20260425T203623
CREATED:20250204T031753Z
LAST-MODIFIED:20250204T031753Z
UID:3673-1740729600-1740747600@www.frandg.org
SUMMARY:Youth Archery
DESCRIPTION:
URL:https://www.frandg.org/event/youth-archery-25/
LOCATION:Indoor Range/Clubhouse
END:VEVENT
BEGIN:VEVENT
DTSTART;TZID=America/New_York:20250223T100000
DTEND;TZID=America/New_York:20250223T120000
DTSTAMP:20260425T203623
CREATED:20250112T202119Z
LAST-MODIFIED:20250112T202119Z
UID:3565-1740304800-1740312000@www.frandg.org
SUMMARY:TRAP
DESCRIPTION:
URL:https://www.frandg.org/event/trap-248/
END:VEVENT
BEGIN:VEVENT
DTSTART;TZID=America/New_York:20250218T180000
DTEND;TZID=America/New_York:20250218T200000
DTSTAMP:20260425T203623
CREATED:20250204T031826Z
LAST-MODIFIED:20250204T031826Z
UID:3675-1739901600-1739908800@www.frandg.org
SUMMARY:Archery Night - Indoor Range
DESCRIPTION:
URL:https://www.frandg.org/event/archery-night-indoor-range/
LOCATION:Indoor Range/Clubhouse
END:VEVENT
BEGIN:VEVENT
DTSTART;TZID=America/New_York:20250217T190000
DTEND;TZID=America/New_York:20250217T203000
DTSTAMP:20260425T203623
CREATED:20241215T223248Z
LAST-MODIFIED:20241215T223248Z
UID:3528-1739818800-1739824200@www.frandg.org
SUMMARY:Business Meeting
DESCRIPTION:
URL:https://www.frandg.org/event/business-meeting-80/
END:VEVENT
BEGIN:VEVENT
DTSTART;TZID=America/New_York:20250216T100000
DTEND;TZID=America/New_York:20250216T120000
DTSTAMP:20260425T203623
CREATED:20250112T202101Z
LAST-MODIFIED:20250112T202101Z
UID:3563-1739700000-1739707200@www.frandg.org
SUMMARY:TRAP
DESCRIPTION:
URL:https://www.frandg.org/event/trap-247/
END:VEVENT
BEGIN:VEVENT
DTSTART;TZID=America/New_York:20250214T080000
DTEND;TZID=America/New_York:20250214T130000
DTSTAMP:20260425T203623
CREATED:20250204T031718Z
LAST-MODIFIED:20250204T031718Z
UID:3671-1739520000-1739538000@www.frandg.org
SUMMARY:Youth Archery
DESCRIPTION:
URL:https://www.frandg.org/event/youth-archery-24/
LOCATION:Indoor Range/Clubhouse
END:VEVENT
END:VCALENDAR