BEGIN:VCALENDAR
VERSION:2.0
PRODID:-//Falmouth Rod &amp; Gun Club - ECPv6.12.0.1//NONSGML v1.0//EN
CALSCALE:GREGORIAN
METHOD:PUBLISH
X-WR-CALNAME:Falmouth Rod &amp; Gun Club
X-ORIGINAL-URL:https://www.frandg.org
X-WR-CALDESC:Events for Falmouth Rod &amp; Gun Club
REFRESH-INTERVAL;VALUE=DURATION:PT1H
X-Robots-Tag:noindex
X-PUBLISHED-TTL:PT1H
BEGIN:VTIMEZONE
TZID:America/New_York
BEGIN:DAYLIGHT
TZOFFSETFROM:-0500
TZOFFSETTO:-0400
TZNAME:EDT
DTSTART:20250309T070000
END:DAYLIGHT
BEGIN:STANDARD
TZOFFSETFROM:-0400
TZOFFSETTO:-0500
TZNAME:EST
DTSTART:20251102T060000
END:STANDARD
END:VTIMEZONE
BEGIN:VEVENT
DTSTART;TZID=America/New_York:20250810T090000
DTEND;TZID=America/New_York:20250810T140000
DTSTAMP:20260425T084750
CREATED:20250714T232940Z
LAST-MODIFIED:20250714T232940Z
UID:3936-1754816400-1754834400@www.frandg.org
SUMMARY:Bring Home the Bacon Shoot
DESCRIPTION:
URL:https://www.frandg.org/event/bring-home-the-bacon-shoot/
END:VEVENT
BEGIN:VEVENT
DTSTART;TZID=America/New_York:20250810T090000
DTEND;TZID=America/New_York:20250810T110000
DTSTAMP:20260425T084750
CREATED:20250611T232504Z
LAST-MODIFIED:20250611T232504Z
UID:3884-1754816400-1754823600@www.frandg.org
SUMMARY:Archery
DESCRIPTION:
URL:https://www.frandg.org/event/archery-21/
END:VEVENT
BEGIN:VEVENT
DTSTART;TZID=America/New_York:20250806T180000
DTEND;TZID=America/New_York:20250806T200000
DTSTAMP:20260425T084750
CREATED:20250531T195926Z
LAST-MODIFIED:20250531T195926Z
UID:3832-1754503200-1754510400@www.frandg.org
SUMMARY:Silhouette Practice - Rifle Range
DESCRIPTION:
URL:https://www.frandg.org/event/silhouette-practice-rifle-range-11/
END:VEVENT
BEGIN:VEVENT
DTSTART;TZID=America/New_York:20250806T080000
DTEND;TZID=America/New_York:20250806T170000
DTSTAMP:20260425T084750
CREATED:20250420T150637Z
LAST-MODIFIED:20250420T150637Z
UID:3738-1754467200-1754499600@www.frandg.org
SUMMARY:MAA 3D Archery Shoot
DESCRIPTION:
URL:https://www.frandg.org/event/maa-3d-archery-shoot-2/
END:VEVENT
BEGIN:VEVENT
DTSTART;TZID=America/New_York:20250803T100000
DTEND;TZID=America/New_York:20250803T120000
DTSTAMP:20260425T084750
CREATED:20250121T193443Z
LAST-MODIFIED:20250121T193443Z
UID:3656-1754215200-1754222400@www.frandg.org
SUMMARY:TRAP
DESCRIPTION:
URL:https://www.frandg.org/event/trap-271/
END:VEVENT
BEGIN:VEVENT
DTSTART;TZID=America/New_York:20250803T090000
DTEND;TZID=America/New_York:20250803T110000
DTSTAMP:20260425T084750
CREATED:20250611T231755Z
LAST-MODIFIED:20250611T231755Z
UID:3868-1754211600-1754218800@www.frandg.org
SUMMARY:Archery
DESCRIPTION:
URL:https://www.frandg.org/event/archery-13/
END:VEVENT
BEGIN:VEVENT
DTSTART;TZID=America/New_York:20250802T090000
DTEND;TZID=America/New_York:20250802T120000
DTSTAMP:20260425T084750
CREATED:20220430T190903Z
LAST-MODIFIED:20250510T101409Z
UID:2075-1754125200-1754136000@www.frandg.org
SUMMARY:Falling Plate 8:45 Reg.
DESCRIPTION:PLEASE CLICK THIS LINK TO READ IMPORTANT SAFETY INFO BEFORE ATTENDING\, THANK YOU.\nCheck the calendar 1 hours before the event\, for weather cancellation or delay. $5-10 per entry\, maximum of 2 entries per person. Please arrive at least 15 min early to register; event end time dependent on participation level (12 PM is approximate).
URL:https://www.frandg.org/event/falling-plate-9-am/
LOCATION:Upper Pistol Range
END:VEVENT
BEGIN:VEVENT
DTSTART;TZID=America/New_York:20250730T180000
DTEND;TZID=America/New_York:20250730T200000
DTSTAMP:20260425T084750
CREATED:20250531T195906Z
LAST-MODIFIED:20250531T195906Z
UID:3830-1753898400-1753905600@www.frandg.org
SUMMARY:Silhouette Practice - Rifle Range
DESCRIPTION:
URL:https://www.frandg.org/event/silhouette-practice-rifle-range-10/
END:VEVENT
BEGIN:VEVENT
DTSTART;TZID=America/New_York:20250727T100000
DTEND;TZID=America/New_York:20250727T120000
DTSTAMP:20260425T084750
CREATED:20250121T193420Z
LAST-MODIFIED:20250121T193420Z
UID:3654-1753610400-1753617600@www.frandg.org
SUMMARY:TRAP
DESCRIPTION:
URL:https://www.frandg.org/event/trap-270/
END:VEVENT
BEGIN:VEVENT
DTSTART;TZID=America/New_York:20250727T090000
DTEND;TZID=America/New_York:20250727T110000
DTSTAMP:20260425T084750
CREATED:20250611T231726Z
LAST-MODIFIED:20250611T231726Z
UID:3866-1753606800-1753614000@www.frandg.org
SUMMARY:Archery
DESCRIPTION:
URL:https://www.frandg.org/event/archery-12/
END:VEVENT
BEGIN:VEVENT
DTSTART;TZID=America/New_York:20250726T080000
DTEND;TZID=America/New_York:20250726T170000
DTSTAMP:20260425T084750
CREATED:20250414T110830Z
LAST-MODIFIED:20250414T110830Z
UID:3709-1753516800-1753549200@www.frandg.org
SUMMARY:MAA 3D Archery Shoot
DESCRIPTION:
URL:https://www.frandg.org/event/maa-3d-archery-shoot/
END:VEVENT
BEGIN:VEVENT
DTSTART;TZID=America/New_York:20250723T180000
DTEND;TZID=America/New_York:20250723T200000
DTSTAMP:20260425T084750
CREATED:20250531T195847Z
LAST-MODIFIED:20250531T195847Z
UID:3828-1753293600-1753300800@www.frandg.org
SUMMARY:Silhouette Practice - Rifle Range
DESCRIPTION:
URL:https://www.frandg.org/event/silhouette-practice-rifle-range-9/
END:VEVENT
BEGIN:VEVENT
DTSTART;TZID=America/New_York:20250721T190000
DTEND;TZID=America/New_York:20250721T203000
DTSTAMP:20260425T084750
CREATED:20250420T150112Z
LAST-MODIFIED:20250420T150112Z
UID:3722-1753124400-1753129800@www.frandg.org
SUMMARY:Business meeting
DESCRIPTION:
URL:https://www.frandg.org/event/business-meeting-91/
END:VEVENT
BEGIN:VEVENT
DTSTART;TZID=America/New_York:20250720T100000
DTEND;TZID=America/New_York:20250720T120000
DTSTAMP:20260425T084750
CREATED:20250121T193400Z
LAST-MODIFIED:20250121T193400Z
UID:3652-1753005600-1753012800@www.frandg.org
SUMMARY:TRAP
DESCRIPTION:
URL:https://www.frandg.org/event/trap-269/
END:VEVENT
BEGIN:VEVENT
DTSTART;TZID=America/New_York:20250720T090000
DTEND;TZID=America/New_York:20250720T110000
DTSTAMP:20260425T084750
CREATED:20250611T231652Z
LAST-MODIFIED:20250611T231652Z
UID:3864-1753002000-1753009200@www.frandg.org
SUMMARY:Archery
DESCRIPTION:
URL:https://www.frandg.org/event/archery-11/
END:VEVENT
BEGIN:VEVENT
DTSTART;TZID=America/New_York:20250716T180000
DTEND;TZID=America/New_York:20250716T200000
DTSTAMP:20260425T084750
CREATED:20250531T195756Z
LAST-MODIFIED:20250531T195756Z
UID:3824-1752688800-1752696000@www.frandg.org
SUMMARY:Silhouette Practice - Rifle Range
DESCRIPTION:
URL:https://www.frandg.org/event/silhouette-practice-rifle-range-7/
END:VEVENT
BEGIN:VEVENT
DTSTART;TZID=America/New_York:20250714T180000
DTEND;TZID=America/New_York:20250714T200000
DTSTAMP:20260425T084750
CREATED:20250112T202817Z
LAST-MODIFIED:20250531T190747Z
UID:3590-1752516000-1752523200@www.frandg.org
SUMMARY:Social Meeting
DESCRIPTION:
URL:https://www.frandg.org/event/social-meeting-52/
END:VEVENT
BEGIN:VEVENT
DTSTART;TZID=America/New_York:20250713T100000
DTEND;TZID=America/New_York:20250713T120000
DTSTAMP:20260425T084750
CREATED:20250121T193340Z
LAST-MODIFIED:20250121T193340Z
UID:3650-1752400800-1752408000@www.frandg.org
SUMMARY:TRAP
DESCRIPTION:
URL:https://www.frandg.org/event/trap-268/
END:VEVENT
BEGIN:VEVENT
DTSTART;TZID=America/New_York:20250713T090000
DTEND;TZID=America/New_York:20250713T110000
DTSTAMP:20260425T084750
CREATED:20250611T231621Z
LAST-MODIFIED:20250611T231621Z
UID:3862-1752397200-1752404400@www.frandg.org
SUMMARY:Archery
DESCRIPTION:
URL:https://www.frandg.org/event/archery-10/
END:VEVENT
BEGIN:VEVENT
DTSTART;TZID=America/New_York:20250709T180000
DTEND;TZID=America/New_York:20250709T200000
DTSTAMP:20260425T084750
CREATED:20250531T195737Z
LAST-MODIFIED:20250531T195737Z
UID:3822-1752084000-1752091200@www.frandg.org
SUMMARY:Silhouette Practice - Rifle Range
DESCRIPTION:
URL:https://www.frandg.org/event/silhouette-practice-rifle-range-6/
END:VEVENT
BEGIN:VEVENT
DTSTART;TZID=America/New_York:20250706T100000
DTEND;TZID=America/New_York:20250706T120000
DTSTAMP:20260425T084750
CREATED:20250121T193323Z
LAST-MODIFIED:20250121T193323Z
UID:3648-1751796000-1751803200@www.frandg.org
SUMMARY:TRAP
DESCRIPTION:
URL:https://www.frandg.org/event/trap-267/
END:VEVENT
BEGIN:VEVENT
DTSTART;TZID=America/New_York:20250706T090000
DTEND;TZID=America/New_York:20250706T110000
DTSTAMP:20260425T084750
CREATED:20250611T231422Z
LAST-MODIFIED:20250611T231422Z
UID:3860-1751792400-1751799600@www.frandg.org
SUMMARY:Archery
DESCRIPTION:
URL:https://www.frandg.org/event/archery-9/
END:VEVENT
BEGIN:VEVENT
DTSTART;TZID=America/New_York:20250702T060000
DTEND;TZID=America/New_York:20250702T200000
DTSTAMP:20260425T084750
CREATED:20250531T195711Z
LAST-MODIFIED:20250531T195711Z
UID:3820-1751436000-1751486400@www.frandg.org
SUMMARY:Silhouette Practice - Rifle Range
DESCRIPTION:
URL:https://www.frandg.org/event/silhouette-practice-rifle-range-5/
END:VEVENT
BEGIN:VEVENT
DTSTART;TZID=America/New_York:20250629T100000
DTEND;TZID=America/New_York:20250629T120000
DTSTAMP:20260425T084750
CREATED:20250121T193304Z
LAST-MODIFIED:20250121T193304Z
UID:3646-1751191200-1751198400@www.frandg.org
SUMMARY:TRAP
DESCRIPTION:
URL:https://www.frandg.org/event/trap-266/
END:VEVENT
BEGIN:VEVENT
DTSTART;TZID=America/New_York:20250629T090000
DTEND;TZID=America/New_York:20250629T110000
DTSTAMP:20260425T084750
CREATED:20250611T231347Z
LAST-MODIFIED:20250611T232214Z
UID:3858-1751187600-1751194800@www.frandg.org
SUMMARY:Archery
DESCRIPTION:
URL:https://www.frandg.org/event/archery-8/
END:VEVENT
BEGIN:VEVENT
DTSTART;TZID=America/New_York:20250628T090000
DTEND;TZID=America/New_York:20250628T120000
DTSTAMP:20260425T084750
CREATED:20220430T191344Z
LAST-MODIFIED:20250628T101041Z
UID:2077-1751101200-1751112000@www.frandg.org
SUMMARY:CANCELED> Pistol
DESCRIPTION:Pistol Event CANCELED due to RAIN
URL:https://www.frandg.org/event/steel-challenge-9-am/
LOCATION:Upper Pistol Range
END:VEVENT
BEGIN:VEVENT
DTSTART;TZID=America/New_York:20250625T180000
DTEND;TZID=America/New_York:20250625T200000
DTSTAMP:20260425T084750
CREATED:20250531T195643Z
LAST-MODIFIED:20250531T195643Z
UID:3818-1750874400-1750881600@www.frandg.org
SUMMARY:Silhouette Practice - Rifle Range
DESCRIPTION:
URL:https://www.frandg.org/event/silhouette-practice-rifle-range-4/
END:VEVENT
BEGIN:VEVENT
DTSTART;TZID=America/New_York:20250622T100000
DTEND;TZID=America/New_York:20250622T120000
DTSTAMP:20260425T084750
CREATED:20250121T193246Z
LAST-MODIFIED:20250121T193246Z
UID:3644-1750586400-1750593600@www.frandg.org
SUMMARY:TRAP
DESCRIPTION:
URL:https://www.frandg.org/event/trap-265/
END:VEVENT
BEGIN:VEVENT
DTSTART;TZID=America/New_York:20250622T090000
DTEND;TZID=America/New_York:20250622T110000
DTSTAMP:20260425T084750
CREATED:20250611T231316Z
LAST-MODIFIED:20250611T231545Z
UID:3856-1750582800-1750590000@www.frandg.org
SUMMARY:Archery
DESCRIPTION:
URL:https://www.frandg.org/event/archery-7/
END:VEVENT
BEGIN:VEVENT
DTSTART;TZID=America/New_York:20250618T180000
DTEND;TZID=America/New_York:20250618T200000
DTSTAMP:20260425T084750
CREATED:20250531T195626Z
LAST-MODIFIED:20250531T195626Z
UID:3816-1750269600-1750276800@www.frandg.org
SUMMARY:Silhouette Practice - Rifle Range
DESCRIPTION:
URL:https://www.frandg.org/event/silhouette-practice-rifle-range-3/
END:VEVENT
END:VCALENDAR