BEGIN:VCALENDAR
VERSION:2.0
PRODID:-//Falmouth Rod &amp; Gun Club - ECPv6.12.0.1//NONSGML v1.0//EN
CALSCALE:GREGORIAN
METHOD:PUBLISH
X-WR-CALNAME:Falmouth Rod &amp; Gun Club
X-ORIGINAL-URL:https://www.frandg.org
X-WR-CALDESC:Events for Falmouth Rod &amp; Gun Club
REFRESH-INTERVAL;VALUE=DURATION:PT1H
X-Robots-Tag:noindex
X-PUBLISHED-TTL:PT1H
BEGIN:VTIMEZONE
TZID:America/New_York
BEGIN:DAYLIGHT
TZOFFSETFROM:-0500
TZOFFSETTO:-0400
TZNAME:EDT
DTSTART:20250309T070000
END:DAYLIGHT
BEGIN:STANDARD
TZOFFSETFROM:-0400
TZOFFSETTO:-0500
TZNAME:EST
DTSTART:20251102T060000
END:STANDARD
END:VTIMEZONE
BEGIN:VEVENT
DTSTART;TZID=America/New_York:20251005T100000
DTEND;TZID=America/New_York:20251005T120000
DTSTAMP:20260425T093003
CREATED:20250420T151012Z
LAST-MODIFIED:20250420T151012Z
UID:3750-1759658400-1759665600@www.frandg.org
SUMMARY:TRAP
DESCRIPTION:
URL:https://www.frandg.org/event/trap-281/
END:VEVENT
BEGIN:VEVENT
DTSTART;TZID=America/New_York:20251004T090000
DTEND;TZID=America/New_York:20251004T170000
DTSTAMP:20260425T093003
CREATED:20150730T214441Z
LAST-MODIFIED:20250906T221748Z
UID:1662-1759568400-1759597200@www.frandg.org
SUMMARY:Dave Schneider Memorial Championship (8:15am Registration)
DESCRIPTION:(PLEASE CLICK THIS LINK TO READ IMPORTANT SAFETY INFO BEFORE ATTENDING\, THANK YOU.) \nClick Above Link & Review Event Details Prior to Coming to Join In The Fun!
URL:https://www.frandg.org/event/dave-schneider-memorial-championship/
LOCATION:Upper Pistol Range
END:VEVENT
BEGIN:VEVENT
DTSTART;TZID=America/New_York:20251003T153000
DTEND;TZID=America/New_York:20251003T170000
DTSTAMP:20260425T093003
CREATED:20250929T190143Z
LAST-MODIFIED:20250929T190143Z
UID:3984-1759505400-1759510800@www.frandg.org
SUMMARY:D.S.M. Event Staging & Falling Plate Practice
DESCRIPTION:PLEASE CLICK THIS LINK TO READ IMPORTANT SAFETY INFO BEFORE ATTENDING\, THANK YOU.\nCheck the calendar 2 hours before the event\, for weather cancellation or delay. $5-10 per entry\, likely maximum of 1 entry per person. If approaching an active firing line please put on Eye & Ear Protection at your vehicle. We will also do some Upper Pistol Range beautification & plate rack maintenance as required. This is in preparation for the D.S.M. event\, this coming Saturday.
URL:https://www.frandg.org/event/d-s-m-event-staging-falling-plate-practice/
END:VEVENT
BEGIN:VEVENT
DTSTART;TZID=America/New_York:20251001T160000
DTEND;TZID=America/New_York:20251001T173000
DTSTAMP:20260425T093003
CREATED:20220912T131213Z
LAST-MODIFIED:20250929T190522Z
UID:2362-1759334400-1759339800@www.frandg.org
SUMMARY:D.S.M. Range Prep. & Falling Plate Practice
DESCRIPTION:PLEASE CLICK THIS LINK TO READ IMPORTANT SAFETY INFO BEFORE ATTENDING\, THANK YOU.\nCheck the calendar 2 hours before the event\, for weather cancellation or delay. $5-10 per entry\, likely maximum of 1 entry per person. If approaching an active firing line please put on Eye & Ear Protection at your vehicle. We will also do some Upper Pistol Range beautification & plate rack maintenance as required. This is in preparation for the D.S.M. event\, this coming Saturday.
URL:https://www.frandg.org/event/falling-plate-practice-d-s-m-range-prep/
LOCATION:Upper Pistol Range
END:VEVENT
BEGIN:VEVENT
DTSTART;TZID=America/New_York:20250928T100000
DTEND;TZID=America/New_York:20250928T120000
DTSTAMP:20260425T093003
CREATED:20250420T150951Z
LAST-MODIFIED:20250420T150951Z
UID:3748-1759053600-1759060800@www.frandg.org
SUMMARY:TRAP
DESCRIPTION:
URL:https://www.frandg.org/event/trap-280/
END:VEVENT
BEGIN:VEVENT
DTSTART;TZID=America/New_York:20250928T090000
DTEND;TZID=America/New_York:20250928T110000
DTSTAMP:20260425T093003
CREATED:20250611T232107Z
LAST-MODIFIED:20250611T232107Z
UID:3880-1759050000-1759057200@www.frandg.org
SUMMARY:Archery
DESCRIPTION:
URL:https://www.frandg.org/event/archery-19/
END:VEVENT
BEGIN:VEVENT
DTSTART;TZID=America/New_York:20250921T100000
DTEND;TZID=America/New_York:20250921T120000
DTSTAMP:20260425T093003
CREATED:20250420T150856Z
LAST-MODIFIED:20250420T150856Z
UID:3744-1758448800-1758456000@www.frandg.org
SUMMARY:TRAP
DESCRIPTION:
URL:https://www.frandg.org/event/trap-278/
END:VEVENT
BEGIN:VEVENT
DTSTART;TZID=America/New_York:20250921T100000
DTEND;TZID=America/New_York:20250921T100000
DTSTAMP:20260425T093003
CREATED:20250420T150932Z
LAST-MODIFIED:20250420T150932Z
UID:3746-1758448800-1758448800@www.frandg.org
SUMMARY:TRAP
DESCRIPTION:
URL:https://www.frandg.org/event/trap-279/
END:VEVENT
BEGIN:VEVENT
DTSTART;TZID=America/New_York:20250921T090000
DTEND;TZID=America/New_York:20250921T110000
DTSTAMP:20260425T093003
CREATED:20250611T232037Z
LAST-MODIFIED:20250611T232037Z
UID:3878-1758445200-1758452400@www.frandg.org
SUMMARY:Archery
DESCRIPTION:
URL:https://www.frandg.org/event/archery-18/
END:VEVENT
BEGIN:VEVENT
DTSTART;TZID=America/New_York:20250915T190000
DTEND;TZID=America/New_York:20250915T203000
DTSTAMP:20260425T093003
CREATED:20250420T150215Z
LAST-MODIFIED:20250420T150215Z
UID:3726-1757962800-1757968200@www.frandg.org
SUMMARY:Business meeting
DESCRIPTION:
URL:https://www.frandg.org/event/business-meeting-93/
END:VEVENT
BEGIN:VEVENT
DTSTART;TZID=America/New_York:20250914T100000
DTEND;TZID=America/New_York:20250914T130000
DTSTAMP:20260425T093003
CREATED:20250818T105230Z
LAST-MODIFIED:20250818T105230Z
UID:3963-1757844000-1757854800@www.frandg.org
SUMMARY:Sight-In Day
DESCRIPTION:
URL:https://www.frandg.org/event/sight-in-day-9/
END:VEVENT
BEGIN:VEVENT
DTSTART;TZID=America/New_York:20250914T100000
DTEND;TZID=America/New_York:20250914T120000
DTSTAMP:20260425T093003
CREATED:20250420T150836Z
LAST-MODIFIED:20250420T150836Z
UID:3742-1757844000-1757851200@www.frandg.org
SUMMARY:TRAP
DESCRIPTION:
URL:https://www.frandg.org/event/trap-277/
END:VEVENT
BEGIN:VEVENT
DTSTART;TZID=America/New_York:20250914T090000
DTEND;TZID=America/New_York:20250914T110000
DTSTAMP:20260425T093003
CREATED:20250611T232006Z
LAST-MODIFIED:20250611T232006Z
UID:3876-1757840400-1757847600@www.frandg.org
SUMMARY:Archery
DESCRIPTION:
URL:https://www.frandg.org/event/archery-17/
END:VEVENT
BEGIN:VEVENT
DTSTART;TZID=America/New_York:20250913T090000
DTEND;TZID=America/New_York:20250913T120000
DTSTAMP:20260425T093003
CREATED:20230419T195830Z
LAST-MODIFIED:20250903T224741Z
UID:2833-1757754000-1757764800@www.frandg.org
SUMMARY:Falling Plate 8:45 Reg.
DESCRIPTION:PLEASE CLICK THIS/BELOW LINK TO READ IMPORTANT SAFETY INFO BEFORE ATTENDING\, THANK YOU.\nCheck the calendar 1 hour prior the event start\, for weather cancellations or delays. $5-10 per entry\, maximum of 2 entries per person. Please arrive at the upper pistol range\, 15-30 minuets prior to event start to register; Event end time dependent on participation level (12 PM is approximate).
URL:https://www.frandg.org/event/falling-plate-830-845-registration/
END:VEVENT
BEGIN:VEVENT
DTSTART;TZID=America/New_York:20250908T180000
DTEND;TZID=America/New_York:20250908T200000
DTSTAMP:20260425T093003
CREATED:20250112T202913Z
LAST-MODIFIED:20250112T202913Z
UID:3594-1757354400-1757361600@www.frandg.org
SUMMARY:Social Meeting
DESCRIPTION:
URL:https://www.frandg.org/event/social-meeting-54/
END:VEVENT
BEGIN:VEVENT
DTSTART;TZID=America/New_York:20250907T100000
DTEND;TZID=America/New_York:20250907T120000
DTSTAMP:20260425T093003
CREATED:20250420T150755Z
LAST-MODIFIED:20250420T150755Z
UID:3740-1757239200-1757246400@www.frandg.org
SUMMARY:TRAP
DESCRIPTION:
URL:https://www.frandg.org/event/trap-274/
END:VEVENT
BEGIN:VEVENT
DTSTART;TZID=America/New_York:20250907T090000
DTEND;TZID=America/New_York:20250907T110000
DTSTAMP:20260425T093003
CREATED:20250611T231934Z
LAST-MODIFIED:20250611T231934Z
UID:3874-1757235600-1757242800@www.frandg.org
SUMMARY:Archery
DESCRIPTION:
URL:https://www.frandg.org/event/archery-16/
END:VEVENT
BEGIN:VEVENT
DTSTART;TZID=America/New_York:20250906T090000
DTEND;TZID=America/New_York:20250906T120000
DTSTAMP:20260425T093003
CREATED:20210730T234111Z
LAST-MODIFIED:20250903T224633Z
UID:1678-1757149200-1757160000@www.frandg.org
SUMMARY:Falling Plate 8:45 Reg.
DESCRIPTION:PLEASE CLICK THIS/BELOW LINK TO READ IMPORTANT SAFETY INFO BEFORE ATTENDING\, THANK YOU.\nCheck the calendar 1 hour prior the event start\, for weather cancellations or delays. $5-10 per entry\, maximum of 2 entries per person. Please arrive at the upper pistol range\, 15-30 minuets prior to event start to register; event end time dependent on participation level (12 PM End time is approximate).
URL:https://www.frandg.org/event/falling-plate-11/
LOCATION:Upper Pistol Range
END:VEVENT
BEGIN:VEVENT
DTSTART;TZID=America/New_York:20250831T100000
DTEND;TZID=America/New_York:20250831T120000
DTSTAMP:20260425T093003
CREATED:20250121T193619Z
LAST-MODIFIED:20250121T193619Z
UID:3666-1756634400-1756641600@www.frandg.org
SUMMARY:TRAP
DESCRIPTION:
URL:https://www.frandg.org/event/trap-276/
END:VEVENT
BEGIN:VEVENT
DTSTART;TZID=America/New_York:20250831T090000
DTEND;TZID=America/New_York:20250831T110000
DTSTAMP:20260425T093003
CREATED:20250611T231903Z
LAST-MODIFIED:20250611T231903Z
UID:3872-1756630800-1756638000@www.frandg.org
SUMMARY:Archery
DESCRIPTION:
URL:https://www.frandg.org/event/archery-15/
END:VEVENT
BEGIN:VEVENT
DTSTART;TZID=America/New_York:20250830T090000
DTEND;TZID=America/New_York:20250830T120000
DTSTAMP:20260425T093003
CREATED:20230619T153600Z
LAST-MODIFIED:20250501T012233Z
UID:2894-1756544400-1756555200@www.frandg.org
SUMMARY:Steel Challenge  8:45 Reg.
DESCRIPTION:PLEASE CLICK THIS/BELOW LINK TO READ IMPORTANT SAFETY INFO BEFORE ATTENDING\, THANK YOU.\nCheck the calendar 1 hour before the event\, for weather cancellations or delays. ($10-15\, maximum of 1 entry per person) Please arrive 15-30 min. prior to event start\, to register; event end time dependent on participation level (12 PM is approximate).
URL:https://www.frandg.org/event/steel-challenge-830-845-registration-2/
END:VEVENT
BEGIN:VEVENT
DTSTART;TZID=America/New_York:20250827T180000
DTEND;TZID=America/New_York:20250827T200000
DTSTAMP:20260425T093003
CREATED:20250531T200021Z
LAST-MODIFIED:20250531T200021Z
UID:3838-1756317600-1756324800@www.frandg.org
SUMMARY:Silhouette Practice - Rifle Range
DESCRIPTION:
URL:https://www.frandg.org/event/silhouette-practice-rifle-range-14/
END:VEVENT
BEGIN:VEVENT
DTSTART;TZID=America/New_York:20250824T120000
DTEND;TZID=America/New_York:20250824T140000
DTSTAMP:20260425T093003
CREATED:20250731T192258Z
LAST-MODIFIED:20250731T192258Z
UID:3952-1756036800-1756044000@www.frandg.org
SUMMARY:TRAP DOUBLES
DESCRIPTION:
URL:https://www.frandg.org/event/trap-doubles-6/
END:VEVENT
BEGIN:VEVENT
DTSTART;TZID=America/New_York:20250824T100000
DTEND;TZID=America/New_York:20250824T120000
DTSTAMP:20260425T093003
CREATED:20250121T193559Z
LAST-MODIFIED:20250121T193559Z
UID:3664-1756029600-1756036800@www.frandg.org
SUMMARY:TRAP
DESCRIPTION:
URL:https://www.frandg.org/event/trap-275/
END:VEVENT
BEGIN:VEVENT
DTSTART;TZID=America/New_York:20250824T090000
DTEND;TZID=America/New_York:20250824T110000
DTSTAMP:20260425T093003
CREATED:20250611T232714Z
LAST-MODIFIED:20250611T232714Z
UID:3888-1756026000-1756033200@www.frandg.org
SUMMARY:Archery
DESCRIPTION:
URL:https://www.frandg.org/event/archery-22/
END:VEVENT
BEGIN:VEVENT
DTSTART;TZID=America/New_York:20250820T180000
DTEND;TZID=America/New_York:20250820T200000
DTSTAMP:20260425T093003
CREATED:20250531T200003Z
LAST-MODIFIED:20250531T200003Z
UID:3836-1755712800-1755720000@www.frandg.org
SUMMARY:Silhouette Practice - Rifle Range
DESCRIPTION:
URL:https://www.frandg.org/event/silhouette-practice-rifle-range-13/
END:VEVENT
BEGIN:VEVENT
DTSTART;TZID=America/New_York:20250818T190000
DTEND;TZID=America/New_York:20250818T203000
DTSTAMP:20260425T093003
CREATED:20250420T150140Z
LAST-MODIFIED:20250420T150140Z
UID:3724-1755543600-1755549000@www.frandg.org
SUMMARY:Business meeting
DESCRIPTION:
URL:https://www.frandg.org/event/business-meeting-92/
END:VEVENT
BEGIN:VEVENT
DTSTART;TZID=America/New_York:20250817T100000
DTEND;TZID=America/New_York:20250817T120000
DTSTAMP:20260425T093003
CREATED:20250121T193521Z
LAST-MODIFIED:20250121T193521Z
UID:3660-1755424800-1755432000@www.frandg.org
SUMMARY:TRAP
DESCRIPTION:
URL:https://www.frandg.org/event/trap-273/
END:VEVENT
BEGIN:VEVENT
DTSTART;TZID=America/New_York:20250817T090000
DTEND;TZID=America/New_York:20250817T110000
DTSTAMP:20260425T093003
CREATED:20250611T231827Z
LAST-MODIFIED:20250812T115814Z
UID:3870-1755421200-1755428400@www.frandg.org
SUMMARY:Archery
DESCRIPTION:
URL:https://www.frandg.org/event/archery-14/
END:VEVENT
BEGIN:VEVENT
DTSTART;TZID=America/New_York:20250816T080000
DTEND;TZID=America/New_York:20250816T140000
DTSTAMP:20260425T093003
CREATED:20250812T120953Z
LAST-MODIFIED:20250812T121043Z
UID:3960-1755331200-1755352800@www.frandg.org
SUMMARY:lower pistol range closed
DESCRIPTION:
URL:https://www.frandg.org/event/lower-pistol-range-closed/
END:VEVENT
END:VCALENDAR