BEGIN:VCALENDAR
VERSION:2.0
PRODID:-//Falmouth Rod &amp; Gun Club - ECPv6.12.0.1//NONSGML v1.0//EN
CALSCALE:GREGORIAN
METHOD:PUBLISH
X-ORIGINAL-URL:https://www.frandg.org
X-WR-CALDESC:Events for Falmouth Rod &amp; Gun Club
REFRESH-INTERVAL;VALUE=DURATION:PT1H
X-Robots-Tag:noindex
X-PUBLISHED-TTL:PT1H
BEGIN:VTIMEZONE
TZID:America/New_York
BEGIN:DAYLIGHT
TZOFFSETFROM:-0500
TZOFFSETTO:-0400
TZNAME:EDT
DTSTART:20260308T070000
END:DAYLIGHT
BEGIN:STANDARD
TZOFFSETFROM:-0400
TZOFFSETTO:-0500
TZNAME:EST
DTSTART:20261101T060000
END:STANDARD
END:VTIMEZONE
BEGIN:VEVENT
DTSTART;TZID=America/New_York:20260322T100000
DTEND;TZID=America/New_York:20260322T120000
DTSTAMP:20260425T104924
CREATED:20260104T165517Z
LAST-MODIFIED:20260104T165517Z
UID:4238-1774173600-1774180800@www.frandg.org
SUMMARY:TRAP
DESCRIPTION:
URL:https://www.frandg.org/event/trap-304/
END:VEVENT
BEGIN:VEVENT
DTSTART;TZID=America/New_York:20260329T080000
DTEND;TZID=America/New_York:20260329T130000
DTSTAMP:20260425T104924
CREATED:20260303T010736Z
LAST-MODIFIED:20260320T184831Z
UID:4283-1774771200-1774789200@www.frandg.org
SUMMARY:HAM Shoot 2026 29 MARCH
DESCRIPTION:
URL:https://www.frandg.org/event/ham-shoot-2026/
END:VEVENT
BEGIN:VEVENT
DTSTART;TZID=America/New_York:20260329T100000
DTEND;TZID=America/New_York:20260329T120000
DTSTAMP:20260425T104924
CREATED:20260104T165538Z
LAST-MODIFIED:20260104T165538Z
UID:4240-1774778400-1774785600@www.frandg.org
SUMMARY:TRAP
DESCRIPTION:
URL:https://www.frandg.org/event/trap-305/
END:VEVENT
BEGIN:VEVENT
DTSTART;TZID=America/New_York:20260405T100000
DTEND;TZID=America/New_York:20260405T120000
DTSTAMP:20260425T104924
CREATED:20260104T165559Z
LAST-MODIFIED:20260104T165559Z
UID:4242-1775383200-1775390400@www.frandg.org
SUMMARY:TRAP
DESCRIPTION:
URL:https://www.frandg.org/event/trap-306/
END:VEVENT
BEGIN:VEVENT
DTSTART;TZID=America/New_York:20260410T083000
DTEND;TZID=America/New_York:20260410T123000
DTSTAMP:20260425T104924
CREATED:20260104T163618Z
LAST-MODIFIED:20260104T163618Z
UID:4166-1775809800-1775824200@www.frandg.org
SUMMARY:Youth Archery
DESCRIPTION:
URL:https://www.frandg.org/event/youth-archery-34/
END:VEVENT
BEGIN:VEVENT
DTSTART;TZID=America/New_York:20260412T100000
DTEND;TZID=America/New_York:20260412T120000
DTSTAMP:20260425T104924
CREATED:20260104T165622Z
LAST-MODIFIED:20260104T165622Z
UID:4244-1775988000-1775995200@www.frandg.org
SUMMARY:TRAP
DESCRIPTION:
URL:https://www.frandg.org/event/trap-307/
END:VEVENT
BEGIN:VEVENT
DTSTART;TZID=America/New_York:20260413T180000
DTEND;TZID=America/New_York:20260413T200000
DTSTAMP:20260425T104924
CREATED:20260104T164019Z
LAST-MODIFIED:20260104T164019Z
UID:4178-1776103200-1776110400@www.frandg.org
SUMMARY:Social Meeting
DESCRIPTION:
URL:https://www.frandg.org/event/social-meeting-61/
END:VEVENT
BEGIN:VEVENT
DTSTART;TZID=America/New_York:20260419T100000
DTEND;TZID=America/New_York:20260419T120000
DTSTAMP:20260425T104924
CREATED:20260104T165643Z
LAST-MODIFIED:20260104T165643Z
UID:4246-1776592800-1776600000@www.frandg.org
SUMMARY:TRAP
DESCRIPTION:
URL:https://www.frandg.org/event/trap-308/
END:VEVENT
BEGIN:VEVENT
DTSTART;TZID=America/New_York:20260420T190000
DTEND;TZID=America/New_York:20260420T203000
DTSTAMP:20260425T104924
CREATED:20260104T164644Z
LAST-MODIFIED:20260104T164644Z
UID:4200-1776711600-1776717000@www.frandg.org
SUMMARY:Business Meeting
DESCRIPTION:
URL:https://www.frandg.org/event/business-meeting-100/
END:VEVENT
BEGIN:VEVENT
DTSTART;TZID=America/New_York:20260423T180000
DTEND;TZID=America/New_York:20260423T200000
DTSTAMP:20260425T104924
CREATED:20260410T042100Z
LAST-MODIFIED:20260410T042100Z
UID:4307-1776967200-1776974400@www.frandg.org
SUMMARY:Indoor Archery
DESCRIPTION:
URL:https://www.frandg.org/event/indoor-archery-5/
LOCATION:Indoor Range/Clubhouse
END:VEVENT
BEGIN:VEVENT
DTSTART;TZID=America/New_York:20260424T083000
DTEND;TZID=America/New_York:20260424T123000
DTSTAMP:20260425T104924
CREATED:20260104T163646Z
LAST-MODIFIED:20260104T163646Z
UID:4168-1777019400-1777033800@www.frandg.org
SUMMARY:Youth Archery
DESCRIPTION:
URL:https://www.frandg.org/event/youth-archery-35/
END:VEVENT
BEGIN:VEVENT
DTSTART;TZID=America/New_York:20260425T100000
DTEND;TZID=America/New_York:20260425T120000
DTSTAMP:20260425T104924
CREATED:20220702T103325Z
LAST-MODIFIED:20260423T191815Z
UID:2275-1777111200-1777118400@www.frandg.org
SUMMARY:Falling Plate 9:45 Reg.
DESCRIPTION:PLEASE CLICK THIS/BELOW LINK TO READ IMPORTANT SAFETY INFO BEFORE ATTENDING\, THANK YOU. \nPLEASE CLICK THIS LINK TO READ IMPORTANT SAFETY INFO BEFORE ATTENDING\, THANK YOU.\nCheck the calendar 1 hours prior the event start\, to check for weather cancellation or delay. $5-10 per entry\, maximum of 2 entries per person. Please arrive by 15 min early to register; event END time dependent on participation level (12 PM is approximate).
URL:https://www.frandg.org/event/canceled-rainfalling-plate/
LOCATION:Upper Pistol Range
END:VEVENT
BEGIN:VEVENT
DTSTART;TZID=America/New_York:20260426T100000
DTEND;TZID=America/New_York:20260426T120000
DTSTAMP:20260425T104924
CREATED:20260104T165704Z
LAST-MODIFIED:20260104T165704Z
UID:4248-1777197600-1777204800@www.frandg.org
SUMMARY:TRAP
DESCRIPTION:
URL:https://www.frandg.org/event/trap-309/
END:VEVENT
BEGIN:VEVENT
DTSTART;TZID=America/New_York:20260503T100000
DTEND;TZID=America/New_York:20260503T120000
DTSTAMP:20260425T104924
CREATED:20260104T165727Z
LAST-MODIFIED:20260104T165727Z
UID:4250-1777802400-1777809600@www.frandg.org
SUMMARY:TRAP
DESCRIPTION:
URL:https://www.frandg.org/event/trap-310/
END:VEVENT
BEGIN:VEVENT
DTSTART;TZID=America/New_York:20260508T083000
DTEND;TZID=America/New_York:20260508T123000
DTSTAMP:20260425T104924
CREATED:20260104T163710Z
LAST-MODIFIED:20260104T163710Z
UID:4170-1778229000-1778243400@www.frandg.org
SUMMARY:Youth Archery
DESCRIPTION:
URL:https://www.frandg.org/event/youth-archery-36/
END:VEVENT
BEGIN:VEVENT
DTSTART;TZID=America/New_York:20260510T100000
DTEND;TZID=America/New_York:20260510T120000
DTSTAMP:20260425T104924
CREATED:20260104T165747Z
LAST-MODIFIED:20260104T165747Z
UID:4252-1778407200-1778414400@www.frandg.org
SUMMARY:TRAP
DESCRIPTION:
URL:https://www.frandg.org/event/trap-311/
END:VEVENT
BEGIN:VEVENT
DTSTART;TZID=America/New_York:20260511T180000
DTEND;TZID=America/New_York:20260511T203000
DTSTAMP:20260425T104924
CREATED:20260104T164047Z
LAST-MODIFIED:20260104T164047Z
UID:4180-1778522400-1778531400@www.frandg.org
SUMMARY:Social Meeting
DESCRIPTION:
URL:https://www.frandg.org/event/social-meeting-62/
END:VEVENT
BEGIN:VEVENT
DTSTART;TZID=America/New_York:20260517T100000
DTEND;TZID=America/New_York:20260517T120000
DTSTAMP:20260425T104924
CREATED:20260104T165808Z
LAST-MODIFIED:20260104T165808Z
UID:4254-1779012000-1779019200@www.frandg.org
SUMMARY:TRAP
DESCRIPTION:
URL:https://www.frandg.org/event/trap-312/
END:VEVENT
BEGIN:VEVENT
DTSTART;TZID=America/New_York:20260518T190000
DTEND;TZID=America/New_York:20260518T203000
DTSTAMP:20260425T104924
CREATED:20260104T164712Z
LAST-MODIFIED:20260104T164712Z
UID:4202-1779130800-1779136200@www.frandg.org
SUMMARY:Business Meeting
DESCRIPTION:
URL:https://www.frandg.org/event/business-meeting-101/
END:VEVENT
BEGIN:VEVENT
DTSTART;TZID=America/New_York:20260524T100000
DTEND;TZID=America/New_York:20260524T120000
DTSTAMP:20260425T104924
CREATED:20260104T165828Z
LAST-MODIFIED:20260104T165828Z
UID:4256-1779616800-1779624000@www.frandg.org
SUMMARY:TRAP
DESCRIPTION:
URL:https://www.frandg.org/event/trap-313/
END:VEVENT
BEGIN:VEVENT
DTSTART;TZID=America/New_York:20260531T100000
DTEND;TZID=America/New_York:20260531T120000
DTSTAMP:20260425T104924
CREATED:20260104T165852Z
LAST-MODIFIED:20260104T165852Z
UID:4258-1780221600-1780228800@www.frandg.org
SUMMARY:TRAP
DESCRIPTION:
URL:https://www.frandg.org/event/trap-314/
END:VEVENT
BEGIN:VEVENT
DTSTART;TZID=America/New_York:20260608T180000
DTEND;TZID=America/New_York:20260608T203000
DTSTAMP:20260425T104924
CREATED:20260104T164125Z
LAST-MODIFIED:20260104T164125Z
UID:4182-1780941600-1780950600@www.frandg.org
SUMMARY:Social Meeting
DESCRIPTION:
URL:https://www.frandg.org/event/social-meeting-63/
END:VEVENT
BEGIN:VEVENT
DTSTART;TZID=America/New_York:20260615T190000
DTEND;TZID=America/New_York:20260615T203000
DTSTAMP:20260425T104924
CREATED:20260104T164747Z
LAST-MODIFIED:20260104T164747Z
UID:4204-1781550000-1781555400@www.frandg.org
SUMMARY:Business Meeting
DESCRIPTION:
URL:https://www.frandg.org/event/business-meeting-102/
END:VEVENT
BEGIN:VEVENT
DTSTART;TZID=America/New_York:20260713T180000
DTEND;TZID=America/New_York:20260713T203000
DTSTAMP:20260425T104924
CREATED:20260104T164153Z
LAST-MODIFIED:20260104T164153Z
UID:4184-1783965600-1783974600@www.frandg.org
SUMMARY:Social Meeting
DESCRIPTION:
URL:https://www.frandg.org/event/social-meeting-64/
END:VEVENT
BEGIN:VEVENT
DTSTART;TZID=America/New_York:20260720T190000
DTEND;TZID=America/New_York:20260720T203000
DTSTAMP:20260425T104924
CREATED:20260104T164817Z
LAST-MODIFIED:20260104T164817Z
UID:4206-1784574000-1784579400@www.frandg.org
SUMMARY:Business Meeting
DESCRIPTION:
URL:https://www.frandg.org/event/business-meeting-103/
END:VEVENT
BEGIN:VEVENT
DTSTART;TZID=America/New_York:20260810T180000
DTEND;TZID=America/New_York:20260810T203000
DTSTAMP:20260425T104924
CREATED:20260104T164225Z
LAST-MODIFIED:20260104T164225Z
UID:4186-1786384800-1786393800@www.frandg.org
SUMMARY:Social Meeting
DESCRIPTION:
URL:https://www.frandg.org/event/social-meeting-65/
END:VEVENT
BEGIN:VEVENT
DTSTART;TZID=America/New_York:20260817T190000
DTEND;TZID=America/New_York:20260817T203000
DTSTAMP:20260425T104924
CREATED:20260104T164846Z
LAST-MODIFIED:20260104T164846Z
UID:4208-1786993200-1786998600@www.frandg.org
SUMMARY:Business Meeting
DESCRIPTION:
URL:https://www.frandg.org/event/business-meeting-104/
END:VEVENT
BEGIN:VEVENT
DTSTART;TZID=America/New_York:20260914T180000
DTEND;TZID=America/New_York:20260914T200000
DTSTAMP:20260425T104924
CREATED:20260104T164255Z
LAST-MODIFIED:20260104T164526Z
UID:4188-1789408800-1789416000@www.frandg.org
SUMMARY:Social Meeting
DESCRIPTION:
URL:https://www.frandg.org/event/social-event-5/
END:VEVENT
BEGIN:VEVENT
DTSTART;TZID=America/New_York:20260921T190000
DTEND;TZID=America/New_York:20260921T203000
DTSTAMP:20260425T104924
CREATED:20260104T164920Z
LAST-MODIFIED:20260104T164920Z
UID:4210-1790017200-1790022600@www.frandg.org
SUMMARY:Business Meeting
DESCRIPTION:
URL:https://www.frandg.org/event/business-meeting-105/
END:VEVENT
BEGIN:VEVENT
DTSTART;TZID=America/New_York:20261012T180000
DTEND;TZID=America/New_York:20261012T200000
DTSTAMP:20260425T104924
CREATED:20260104T164350Z
LAST-MODIFIED:20260104T164350Z
UID:4191-1791828000-1791835200@www.frandg.org
SUMMARY:Social Meeting
DESCRIPTION:
URL:https://www.frandg.org/event/social-meeting-66/
END:VEVENT
END:VCALENDAR