BEGIN:VCALENDAR
VERSION:2.0
PRODID:-//Falmouth Rod &amp; Gun Club - ECPv6.12.0.1//NONSGML v1.0//EN
CALSCALE:GREGORIAN
METHOD:PUBLISH
X-ORIGINAL-URL:https://www.frandg.org
X-WR-CALDESC:Events for Falmouth Rod &amp; Gun Club
REFRESH-INTERVAL;VALUE=DURATION:PT1H
X-Robots-Tag:noindex
X-PUBLISHED-TTL:PT1H
BEGIN:VTIMEZONE
TZID:America/New_York
BEGIN:DAYLIGHT
TZOFFSETFROM:-0500
TZOFFSETTO:-0400
TZNAME:EDT
DTSTART:20250309T070000
END:DAYLIGHT
BEGIN:STANDARD
TZOFFSETFROM:-0400
TZOFFSETTO:-0500
TZNAME:EST
DTSTART:20251102T060000
END:STANDARD
END:VTIMEZONE
BEGIN:VEVENT
DTSTART;TZID=America/New_York:20251001T160000
DTEND;TZID=America/New_York:20251001T173000
DTSTAMP:20260424T232125
CREATED:20220912T131213Z
LAST-MODIFIED:20250929T190522Z
UID:2362-1759334400-1759339800@www.frandg.org
SUMMARY:D.S.M. Range Prep. & Falling Plate Practice
DESCRIPTION:PLEASE CLICK THIS LINK TO READ IMPORTANT SAFETY INFO BEFORE ATTENDING\, THANK YOU.\nCheck the calendar 2 hours before the event\, for weather cancellation or delay. $5-10 per entry\, likely maximum of 1 entry per person. If approaching an active firing line please put on Eye & Ear Protection at your vehicle. We will also do some Upper Pistol Range beautification & plate rack maintenance as required. This is in preparation for the D.S.M. event\, this coming Saturday.
URL:https://www.frandg.org/event/falling-plate-practice-d-s-m-range-prep/
LOCATION:Upper Pistol Range
END:VEVENT
BEGIN:VEVENT
DTSTART;TZID=America/New_York:20251003T153000
DTEND;TZID=America/New_York:20251003T170000
DTSTAMP:20260424T232125
CREATED:20250929T190143Z
LAST-MODIFIED:20250929T190143Z
UID:3984-1759505400-1759510800@www.frandg.org
SUMMARY:D.S.M. Event Staging & Falling Plate Practice
DESCRIPTION:PLEASE CLICK THIS LINK TO READ IMPORTANT SAFETY INFO BEFORE ATTENDING\, THANK YOU.\nCheck the calendar 2 hours before the event\, for weather cancellation or delay. $5-10 per entry\, likely maximum of 1 entry per person. If approaching an active firing line please put on Eye & Ear Protection at your vehicle. We will also do some Upper Pistol Range beautification & plate rack maintenance as required. This is in preparation for the D.S.M. event\, this coming Saturday.
URL:https://www.frandg.org/event/d-s-m-event-staging-falling-plate-practice/
END:VEVENT
BEGIN:VEVENT
DTSTART;TZID=America/New_York:20251004T090000
DTEND;TZID=America/New_York:20251004T170000
DTSTAMP:20260424T232125
CREATED:20150730T214441Z
LAST-MODIFIED:20250906T221748Z
UID:1662-1759568400-1759597200@www.frandg.org
SUMMARY:Dave Schneider Memorial Championship (8:15am Registration)
DESCRIPTION:(PLEASE CLICK THIS LINK TO READ IMPORTANT SAFETY INFO BEFORE ATTENDING\, THANK YOU.) \nClick Above Link & Review Event Details Prior to Coming to Join In The Fun!
URL:https://www.frandg.org/event/dave-schneider-memorial-championship/
LOCATION:Upper Pistol Range
END:VEVENT
BEGIN:VEVENT
DTSTART;TZID=America/New_York:20251005T100000
DTEND;TZID=America/New_York:20251005T120000
DTSTAMP:20260424T232125
CREATED:20250420T151012Z
LAST-MODIFIED:20250420T151012Z
UID:3750-1759658400-1759665600@www.frandg.org
SUMMARY:TRAP
DESCRIPTION:
URL:https://www.frandg.org/event/trap-281/
END:VEVENT
BEGIN:VEVENT
DTSTART;TZID=America/New_York:20251011T090000
DTEND;TZID=America/New_York:20251011T120000
DTSTAMP:20260424T232125
CREATED:20220430T185913Z
LAST-MODIFIED:20251011T112413Z
UID:2073-1760173200-1760184000@www.frandg.org
SUMMARY:Falling Plate 8:45 Reg.
DESCRIPTION:PLEASE CLICK THIS/BELOW LINK TO READ IMPORTANT SAFETY INFO BEFORE ATTENDING\, THANK YOU.\nCheck the calendar 1 hour prior the event start\, for weather cancellations or delays. $5-10 per entry\, maximum of 2 entries per person. Please arrive at the upper pistol range\, 15-30 minuets prior to event start to register; event end time dependent on participation level (12 PM is approximate).
URL:https://www.frandg.org/event/falling-plate-member-guest/
END:VEVENT
BEGIN:VEVENT
DTSTART;TZID=America/New_York:20251012T100000
DTEND;TZID=America/New_York:20251012T120000
DTSTAMP:20260424T232125
CREATED:20250420T151031Z
LAST-MODIFIED:20250420T151031Z
UID:3752-1760263200-1760270400@www.frandg.org
SUMMARY:TRAP
DESCRIPTION:
URL:https://www.frandg.org/event/trap-282/
END:VEVENT
BEGIN:VEVENT
DTSTART;TZID=America/New_York:20251012T100000
DTEND;TZID=America/New_York:20251012T130000
DTSTAMP:20260424T232125
CREATED:20250818T105307Z
LAST-MODIFIED:20250818T105307Z
UID:3965-1760263200-1760274000@www.frandg.org
SUMMARY:Sight-In Day
DESCRIPTION:
URL:https://www.frandg.org/event/sight-in-day-10/
END:VEVENT
BEGIN:VEVENT
DTSTART;TZID=America/New_York:20251012T100000
DTEND;TZID=America/New_York:20251012T130000
DTSTAMP:20260424T232125
CREATED:20250929T152833Z
LAST-MODIFIED:20250929T152833Z
UID:3981-1760263200-1760274000@www.frandg.org
SUMMARY:Sight-In
DESCRIPTION:
URL:https://www.frandg.org/event/sight-in/
END:VEVENT
BEGIN:VEVENT
DTSTART;TZID=America/New_York:20251013T180000
DTEND;TZID=America/New_York:20251013T200000
DTSTAMP:20260424T232125
CREATED:20250112T202938Z
LAST-MODIFIED:20250112T202938Z
UID:3596-1760378400-1760385600@www.frandg.org
SUMMARY:Social Meeting
DESCRIPTION:
URL:https://www.frandg.org/event/social-meeting-55/
END:VEVENT
BEGIN:VEVENT
DTSTART;TZID=America/New_York:20251018T090000
DTEND;TZID=America/New_York:20251018T120000
DTSTAMP:20260424T232125
CREATED:20230902T103324Z
LAST-MODIFIED:20251017T093156Z
UID:2956-1760778000-1760788800@www.frandg.org
SUMMARY:Falling Plate 8:45 Reg.
DESCRIPTION:PLEASE CLICK THIS/BELOW LINK TO READ IMPORTANT SAFETY INFO BEFORE ATTENDING\, THANK YOU.\nCheck the calendar 1 hour prior the event start\, for weather cancellations or delays. $5-10 per entry\, maximum of 2 entries per person. Please arrive at the upper pistol range\, 15-30 minuets prior to event start to register; event end time dependent on participation level (12 PM is approximate).
URL:https://www.frandg.org/event/falling-plate-registration-830am-845am/
END:VEVENT
BEGIN:VEVENT
DTSTART;TZID=America/New_York:20251019T100000
DTEND;TZID=America/New_York:20251019T120000
DTSTAMP:20260424T232125
CREATED:20250420T151051Z
LAST-MODIFIED:20250420T151051Z
UID:3754-1760868000-1760875200@www.frandg.org
SUMMARY:TRAP
DESCRIPTION:
URL:https://www.frandg.org/event/trap-283/
END:VEVENT
BEGIN:VEVENT
DTSTART;TZID=America/New_York:20251020T190000
DTEND;TZID=America/New_York:20251020T203000
DTSTAMP:20260424T232125
CREATED:20250420T150240Z
LAST-MODIFIED:20250420T150240Z
UID:3728-1760986800-1760992200@www.frandg.org
SUMMARY:Business meeting
DESCRIPTION:
URL:https://www.frandg.org/event/business-meeting-94/
END:VEVENT
BEGIN:VEVENT
DTSTART;TZID=America/New_York:20251025T090000
DTEND;TZID=America/New_York:20251025T120000
DTSTAMP:20260424T232125
CREATED:20230619T153705Z
LAST-MODIFIED:20250925T235921Z
UID:2896-1761382800-1761393600@www.frandg.org
SUMMARY:Steel Challenge 8:45 Reg.
DESCRIPTION:PLEASE CLICK THIS/BELOW LINK TO READ IMPORTANT SAFETY INFO BEFORE ATTENDING\, THANK YOU.\nCheck the calendar 1 hour before the event\, for weather cancellations or delays. ($10-15\, maximum of 1 entry per person) Please arrive 15-30 min. prior to event start\, to register; event end time dependent on participation level (12 PM is approximate).
URL:https://www.frandg.org/event/steel-challenge-830-845-registration-3/
END:VEVENT
BEGIN:VEVENT
DTSTART;TZID=America/New_York:20251026T100000
DTEND;TZID=America/New_York:20251026T120000
DTSTAMP:20260424T232125
CREATED:20250420T151113Z
LAST-MODIFIED:20250420T151113Z
UID:3756-1761472800-1761480000@www.frandg.org
SUMMARY:TRAP
DESCRIPTION:
URL:https://www.frandg.org/event/trap-284/
END:VEVENT
END:VCALENDAR