BEGIN:VCALENDAR
VERSION:2.0
PRODID:-//Falmouth Rod &amp; Gun Club - ECPv6.12.0.1//NONSGML v1.0//EN
CALSCALE:GREGORIAN
METHOD:PUBLISH
X-WR-CALNAME:Falmouth Rod &amp; Gun Club
X-ORIGINAL-URL:https://www.frandg.org
X-WR-CALDESC:Events for Falmouth Rod &amp; Gun Club
REFRESH-INTERVAL;VALUE=DURATION:PT1H
X-Robots-Tag:noindex
X-PUBLISHED-TTL:PT1H
BEGIN:VTIMEZONE
TZID:America/New_York
BEGIN:DAYLIGHT
TZOFFSETFROM:-0500
TZOFFSETTO:-0400
TZNAME:EDT
DTSTART:20250309T070000
END:DAYLIGHT
BEGIN:STANDARD
TZOFFSETFROM:-0400
TZOFFSETTO:-0500
TZNAME:EST
DTSTART:20251102T060000
END:STANDARD
END:VTIMEZONE
BEGIN:VEVENT
DTSTART;TZID=America/New_York:20251102T100000
DTEND;TZID=America/New_York:20251102T120000
DTSTAMP:20260424T214454
CREATED:20250420T151131Z
LAST-MODIFIED:20250420T151131Z
UID:3758-1762077600-1762084800@www.frandg.org
SUMMARY:TRAP
DESCRIPTION:
URL:https://www.frandg.org/event/trap-285/
END:VEVENT
BEGIN:VEVENT
DTSTART;TZID=America/New_York:20251109T090000
DTEND;TZID=America/New_York:20251109T130000
DTSTAMP:20260424T214454
CREATED:20251013T133220Z
LAST-MODIFIED:20251013T133220Z
UID:3994-1762678800-1762693200@www.frandg.org
SUMMARY:Turkey Shoot
DESCRIPTION:
URL:https://www.frandg.org/event/turkey-shoot-4/
END:VEVENT
BEGIN:VEVENT
DTSTART;TZID=America/New_York:20251109T100000
DTEND;TZID=America/New_York:20251109T120000
DTSTAMP:20260424T214454
CREATED:20250420T151151Z
LAST-MODIFIED:20250420T151151Z
UID:3760-1762682400-1762689600@www.frandg.org
SUMMARY:TRAP
DESCRIPTION:
URL:https://www.frandg.org/event/trap-286/
END:VEVENT
BEGIN:VEVENT
DTSTART;TZID=America/New_York:20251110T180000
DTEND;TZID=America/New_York:20251110T200000
DTSTAMP:20260424T214454
CREATED:20250112T203003Z
LAST-MODIFIED:20250112T203003Z
UID:3598-1762797600-1762804800@www.frandg.org
SUMMARY:Social Meeting
DESCRIPTION:
URL:https://www.frandg.org/event/social-meeting-56/
END:VEVENT
BEGIN:VEVENT
DTSTART;TZID=America/New_York:20251115T100000
DTEND;TZID=America/New_York:20251115T120000
DTSTAMP:20260424T214454
CREATED:20220824T020737Z
LAST-MODIFIED:20251114T231226Z
UID:2351-1763200800-1763208000@www.frandg.org
SUMMARY:Pistol Canceled (No Interest or RSO Coverage)
DESCRIPTION:PLEASE CLICK ABOVE OR BELOW LINK TO READ IMPORTANT SAFETY INFO BEFORE ATTENDING\, THANK YOU.\nCheck the calendar 1 hour prior the event start\, for weather cancellations or delays. $5-10 per entry\, maximum of 2 entries per person. Please arrive at the upper pistol range\, 15-30 minuets prior to event start to register; event end time dependent on participation level (12 PM is approximate).
URL:https://www.frandg.org/event/falling-plate-after-steel-challenge-ends/
END:VEVENT
BEGIN:VEVENT
DTSTART;TZID=America/New_York:20251116T100000
DTEND;TZID=America/New_York:20251116T120000
DTSTAMP:20260424T214454
CREATED:20250420T151214Z
LAST-MODIFIED:20250420T151214Z
UID:3762-1763287200-1763294400@www.frandg.org
SUMMARY:TRAP
DESCRIPTION:
URL:https://www.frandg.org/event/trap-287/
END:VEVENT
BEGIN:VEVENT
DTSTART;TZID=America/New_York:20251117T190000
DTEND;TZID=America/New_York:20251117T203000
DTSTAMP:20260424T214454
CREATED:20250420T150308Z
LAST-MODIFIED:20250420T150308Z
UID:3730-1763406000-1763411400@www.frandg.org
SUMMARY:Business meeting
DESCRIPTION:
URL:https://www.frandg.org/event/business-meeting-95/
END:VEVENT
BEGIN:VEVENT
DTSTART;TZID=America/New_York:20251123T100000
DTEND;TZID=America/New_York:20251123T100000
DTSTAMP:20260424T214454
CREATED:20250420T151255Z
LAST-MODIFIED:20250420T151255Z
UID:3764-1763892000-1763892000@www.frandg.org
SUMMARY:TRAP
DESCRIPTION:
URL:https://www.frandg.org/event/trap-288/
END:VEVENT
BEGIN:VEVENT
DTSTART;TZID=America/New_York:20251130T100000
DTEND;TZID=America/New_York:20251130T120000
DTSTAMP:20260424T214454
CREATED:20250420T151316Z
LAST-MODIFIED:20250420T151316Z
UID:3766-1764496800-1764504000@www.frandg.org
SUMMARY:TRAP
DESCRIPTION:
URL:https://www.frandg.org/event/trap-289/
END:VEVENT
END:VCALENDAR