BEGIN:VCALENDAR
VERSION:2.0
PRODID:-//Falmouth Rod &amp; Gun Club - ECPv6.12.0.1//NONSGML v1.0//EN
CALSCALE:GREGORIAN
METHOD:PUBLISH
X-ORIGINAL-URL:https://www.frandg.org
X-WR-CALDESC:Events for Falmouth Rod &amp; Gun Club
REFRESH-INTERVAL;VALUE=DURATION:PT1H
X-Robots-Tag:noindex
X-PUBLISHED-TTL:PT1H
BEGIN:VTIMEZONE
TZID:America/New_York
BEGIN:DAYLIGHT
TZOFFSETFROM:-0500
TZOFFSETTO:-0400
TZNAME:EDT
DTSTART:20250309T070000
END:DAYLIGHT
BEGIN:STANDARD
TZOFFSETFROM:-0400
TZOFFSETTO:-0500
TZNAME:EST
DTSTART:20251102T060000
END:STANDARD
END:VTIMEZONE
BEGIN:VEVENT
DTSTART;TZID=America/New_York:20251207T100000
DTEND;TZID=America/New_York:20251207T120000
DTSTAMP:20260424T195930
CREATED:20250420T151341Z
LAST-MODIFIED:20250420T151341Z
UID:3768-1765101600-1765108800@www.frandg.org
SUMMARY:TRAP
DESCRIPTION:
URL:https://www.frandg.org/event/trap-290/
END:VEVENT
BEGIN:VEVENT
DTSTART;TZID=America/New_York:20251208T180000
DTEND;TZID=America/New_York:20251208T200000
DTSTAMP:20260424T195930
CREATED:20250112T203026Z
LAST-MODIFIED:20250112T203026Z
UID:3600-1765216800-1765224000@www.frandg.org
SUMMARY:Social Meeting
DESCRIPTION:
URL:https://www.frandg.org/event/social-meeting-57/
END:VEVENT
BEGIN:VEVENT
DTSTART;TZID=America/New_York:20251214T100000
DTEND;TZID=America/New_York:20251214T120000
DTSTAMP:20260424T195930
CREATED:20250420T151401Z
LAST-MODIFIED:20250420T151401Z
UID:3770-1765706400-1765713600@www.frandg.org
SUMMARY:TRAP
DESCRIPTION:
URL:https://www.frandg.org/event/trap-291/
END:VEVENT
BEGIN:VEVENT
DTSTART;TZID=America/New_York:20251215T190000
DTEND;TZID=America/New_York:20251215T203000
DTSTAMP:20260424T195930
CREATED:20250420T150334Z
LAST-MODIFIED:20250420T150334Z
UID:3732-1765825200-1765830600@www.frandg.org
SUMMARY:Business meeting
DESCRIPTION:
URL:https://www.frandg.org/event/business-meeting-96/
END:VEVENT
BEGIN:VEVENT
DTSTART;TZID=America/New_York:20251221T100000
DTEND;TZID=America/New_York:20251221T120000
DTSTAMP:20260424T195930
CREATED:20250420T151422Z
LAST-MODIFIED:20250420T151422Z
UID:3772-1766311200-1766318400@www.frandg.org
SUMMARY:TRAP
DESCRIPTION:
URL:https://www.frandg.org/event/trap-292/
END:VEVENT
BEGIN:VEVENT
DTSTART;TZID=America/New_York:20251228T100000
DTEND;TZID=America/New_York:20251228T120000
DTSTAMP:20260424T195930
CREATED:20250420T151443Z
LAST-MODIFIED:20250420T151443Z
UID:3774-1766916000-1766923200@www.frandg.org
SUMMARY:TRAP
DESCRIPTION:
URL:https://www.frandg.org/event/trap-293/
END:VEVENT
BEGIN:VEVENT
DTSTART;TZID=America/New_York:20251229T180000
DTEND;TZID=America/New_York:20251229T200000
DTSTAMP:20260424T195930
CREATED:20251202T010016Z
LAST-MODIFIED:20251202T010016Z
UID:4150-1767031200-1767038400@www.frandg.org
SUMMARY:Indoor Archery
DESCRIPTION:
URL:https://www.frandg.org/event/indoor-archery-4/
END:VEVENT
END:VCALENDAR