BEGIN:VCALENDAR
VERSION:2.0
PRODID:-//Falmouth Rod &amp; Gun Club - ECPv6.12.0.1//NONSGML v1.0//EN
CALSCALE:GREGORIAN
METHOD:PUBLISH
X-WR-CALNAME:Falmouth Rod &amp; Gun Club
X-ORIGINAL-URL:https://www.frandg.org
X-WR-CALDESC:Events for Falmouth Rod &amp; Gun Club
REFRESH-INTERVAL;VALUE=DURATION:PT1H
X-Robots-Tag:noindex
X-PUBLISHED-TTL:PT1H
BEGIN:VTIMEZONE
TZID:America/New_York
BEGIN:DAYLIGHT
TZOFFSETFROM:-0500
TZOFFSETTO:-0400
TZNAME:EDT
DTSTART:20260308T070000
END:DAYLIGHT
BEGIN:STANDARD
TZOFFSETFROM:-0400
TZOFFSETTO:-0500
TZNAME:EST
DTSTART:20261101T060000
END:STANDARD
END:VTIMEZONE
BEGIN:VEVENT
DTSTART;TZID=America/New_York:20260111T100000
DTEND;TZID=America/New_York:20260111T120000
DTSTAMP:20260424T175430
CREATED:20260104T165154Z
LAST-MODIFIED:20260104T165154Z
UID:4218-1768125600-1768132800@www.frandg.org
SUMMARY:TRAP
DESCRIPTION:
URL:https://www.frandg.org/event/trap-294/
END:VEVENT
BEGIN:VEVENT
DTSTART;TZID=America/New_York:20260112T183000
DTEND;TZID=America/New_York:20260112T200000
DTSTAMP:20260424T175430
CREATED:20250420T150536Z
LAST-MODIFIED:20250420T150536Z
UID:3736-1768242600-1768248000@www.frandg.org
SUMMARY:Annual Meeting for Elections
DESCRIPTION:
URL:https://www.frandg.org/event/annual-meeting-for-elections/
END:VEVENT
BEGIN:VEVENT
DTSTART;TZID=America/New_York:20260118T100000
DTEND;TZID=America/New_York:20260118T120000
DTSTAMP:20260424T175430
CREATED:20260104T165215Z
LAST-MODIFIED:20260104T165215Z
UID:4220-1768730400-1768737600@www.frandg.org
SUMMARY:TRAP
DESCRIPTION:
URL:https://www.frandg.org/event/trap-295/
END:VEVENT
BEGIN:VEVENT
DTSTART;TZID=America/New_York:20260119T190000
DTEND;TZID=America/New_York:20260119T203000
DTSTAMP:20260424T175430
CREATED:20250420T150442Z
LAST-MODIFIED:20250420T150442Z
UID:3734-1768849200-1768854600@www.frandg.org
SUMMARY:Business meeting
DESCRIPTION:
URL:https://www.frandg.org/event/business-meeting-97/
END:VEVENT
BEGIN:VEVENT
DTSTART;TZID=America/New_York:20260125T100000
DTEND;TZID=America/New_York:20260125T120000
DTSTAMP:20260424T175430
CREATED:20260104T165237Z
LAST-MODIFIED:20260104T165237Z
UID:4222-1769335200-1769342400@www.frandg.org
SUMMARY:TRAP
DESCRIPTION:
URL:https://www.frandg.org/event/trap-296/
END:VEVENT
BEGIN:VEVENT
DTSTART;TZID=America/New_York:20260131T140000
DTEND;TZID=America/New_York:20260131T170000
DTSTAMP:20260424T175430
CREATED:20260130T184421Z
LAST-MODIFIED:20260130T184421Z
UID:4271-1769868000-1769878800@www.frandg.org
SUMMARY:Troop 423 - Clubhouse Indoor Range
DESCRIPTION:
URL:https://www.frandg.org/event/troop-423-clubhouse-indoor-range/
LOCATION:Indoor Range/Clubhouse
END:VEVENT
END:VCALENDAR