BEGIN:VCALENDAR
VERSION:2.0
PRODID:-//Falmouth Rod &amp; Gun Club - ECPv6.12.0.1//NONSGML v1.0//EN
CALSCALE:GREGORIAN
METHOD:PUBLISH
X-ORIGINAL-URL:https://www.frandg.org
X-WR-CALDESC:Events for Falmouth Rod &amp; Gun Club
REFRESH-INTERVAL;VALUE=DURATION:PT1H
X-Robots-Tag:noindex
X-PUBLISHED-TTL:PT1H
BEGIN:VTIMEZONE
TZID:America/New_York
BEGIN:DAYLIGHT
TZOFFSETFROM:-0500
TZOFFSETTO:-0400
TZNAME:EDT
DTSTART:20260308T070000
END:DAYLIGHT
BEGIN:STANDARD
TZOFFSETFROM:-0400
TZOFFSETTO:-0500
TZNAME:EST
DTSTART:20261101T060000
END:STANDARD
END:VTIMEZONE
BEGIN:VEVENT
DTSTART;TZID=America/New_York:20260201T100000
DTEND;TZID=America/New_York:20260201T120000
DTSTAMP:20260424T153945
CREATED:20260104T165258Z
LAST-MODIFIED:20260104T165258Z
UID:4224-1769940000-1769947200@www.frandg.org
SUMMARY:TRAP
DESCRIPTION:
URL:https://www.frandg.org/event/trap-297/
END:VEVENT
BEGIN:VEVENT
DTSTART;TZID=America/New_York:20260208T100000
DTEND;TZID=America/New_York:20260208T120000
DTSTAMP:20260424T153945
CREATED:20260104T165316Z
LAST-MODIFIED:20260104T165316Z
UID:4226-1770544800-1770552000@www.frandg.org
SUMMARY:TRAP
DESCRIPTION:
URL:https://www.frandg.org/event/trap-298/
END:VEVENT
BEGIN:VEVENT
DTSTART;TZID=America/New_York:20260209T180000
DTEND;TZID=America/New_York:20260209T200000
DTSTAMP:20260424T153945
CREATED:20260104T163855Z
LAST-MODIFIED:20260104T163855Z
UID:4174-1770660000-1770667200@www.frandg.org
SUMMARY:Social Meeting
DESCRIPTION:
URL:https://www.frandg.org/event/social-meeting-59/
END:VEVENT
BEGIN:VEVENT
DTSTART;TZID=America/New_York:20260215T100000
DTEND;TZID=America/New_York:20260215T120000
DTSTAMP:20260424T153945
CREATED:20260104T165335Z
LAST-MODIFIED:20260104T165335Z
UID:4228-1771149600-1771156800@www.frandg.org
SUMMARY:TRAP
DESCRIPTION:
URL:https://www.frandg.org/event/trap-299/
END:VEVENT
BEGIN:VEVENT
DTSTART;TZID=America/New_York:20260216T190000
DTEND;TZID=America/New_York:20260216T203000
DTSTAMP:20260424T153945
CREATED:20260104T163813Z
LAST-MODIFIED:20260104T163813Z
UID:4172-1771268400-1771273800@www.frandg.org
SUMMARY:Business Meeting
DESCRIPTION:
URL:https://www.frandg.org/event/business-meeting-98/
END:VEVENT
BEGIN:VEVENT
DTSTART;TZID=America/New_York:20260220T083000
DTEND;TZID=America/New_York:20260220T123000
DTSTAMP:20260424T153945
CREATED:20260104T163458Z
LAST-MODIFIED:20260104T163458Z
UID:4160-1771576200-1771590600@www.frandg.org
SUMMARY:Youth Archery
DESCRIPTION:
URL:https://www.frandg.org/event/youth-archery-31/
END:VEVENT
BEGIN:VEVENT
DTSTART;TZID=America/New_York:20260222T100000
DTEND;TZID=America/New_York:20260222T120000
DTSTAMP:20260424T153945
CREATED:20260104T165358Z
LAST-MODIFIED:20260104T165358Z
UID:4230-1771754400-1771761600@www.frandg.org
SUMMARY:TRAP
DESCRIPTION:
URL:https://www.frandg.org/event/trap-300/
END:VEVENT
END:VCALENDAR